Workbook

Sheet Indice
C2: RADIODIFUSIÓN SONORA Y TELEVISIÓN ABIERTA
C3: Categoria: Infraestructura
C4: Indicador: Estaciones concesionadas de Radiodifusión Sonora AM, FM por provincia
C6: Fuente: ARCOTEL
C7: Fecha de publicación: Agosto 2026
C8: Fecha de corte: Julio 2026
B10: Archivo | H10: Descripción
B12: 1. RADIO AM (DATOS) | H12: Detalla el número de estaciones de radiodifusión sonora AM concesionadas por provincia y por tipo (privada, público y comunitario)
B14: 2. RADIO AM (GRAFICO) | H14: Gráfico de estaciones de radiodifusión AM
B16: 3. RADIO FM (DATOS) | H16: Detalla el número de estaciones de radiodifusión sonora FM concesionadas por provincia y por tipo (privada, público y comunitario)
B18: 4. RADIO FM (GRAFICO) | H18: Gráfico de estaciones de radiodifusión FM

Sheet RADIO AM (DATOS)
B2: RADIODIFUSIÓN SONORA Y TELEVISIÓN ABIERTA
B3: Categoria: Infraestructura
B4: Número de estaciones concesionadas de Radiodifusión Sonora AM
B6: =Indice!C6 -> Fuente: ARCOTEL
B7: =Indice!C7 -> Fecha de publicación: Agosto 2026 | E7: Regresar al Índice
B8: =Indice!C8 -> Fecha de corte: Julio 2026
B10: PROVINCIA | C10: Comercial Privada | D10: Servicio Público | E10: Servicio Público Comunitario | F10: Total Provincia
B11: Azuay | C11: 5 | D11: - | E11: 1 | F11: =SUM(C11:E11) -> 6
B12: Bolívar | D12: - | E12: 1 | F12: =SUM(C12:E12) -> 1
B13: Cañar | C13: 3 | D13: - | E13: 1 | F13: =SUM(C13:E13) -> 4
B14: Carchi | C14: 1 | D14: - | E14: - | F14: =SUM(C14:E14) -> 1
B15: Chimborazo | C15: 1 | D15: 2 | E15: - | F15: =SUM(C15:E15) -> 3
B16: Cotopaxi | C16: 5 | D16: - | E16: 1 | F16: =SUM(C16:E16) -> 6
B17: El Oro | C17: 5 | D17: - | E17: - | F17: =SUM(C17:E17) -> 5
B18: Esmeraldas | C18: - | D18: - | E18: - | F18: =SUM(C18:E18) -> 0
B19: Galápagos | C19: - | D19: - | E19: - | F19: =SUM(C19:E19) -> 0
B20: Guayas | C20: 16 | D20: 1 | E20: 1 | F20: =SUM(C20:E20) -> 18
B21: Imbabura | C21: 2 | D21: - | E21: - | F21: =SUM(C21:E21) -> 2
B22: Loja | D22: - | E22: - | F22: =SUM(C22:E22) -> 0
B23: Los Rios | D23: - | E23: - | F23: =SUM(C23:E23) -> 0
B24: Manabí | C24: 6 | D24: - | E24: - | F24: =SUM(C24:E24) -> 6
B25: Morona Santiago | C25: - | D25: - | E25: - | F25: =SUM(C25:E25) -> 0
B26: Napo | C26: - | D26: - | E26: - | F26: =SUM(C26:E26) -> 0
B27: Orellana | C27: - | D27: - | E27: - | F27: =SUM(C27:E27) -> 0
B28: Pastaza | C28: - | D28: - | E28: - | F28: =SUM(C28:E28) -> 0
B29: Pichincha | C29: 14 | D29: 3 | E29: 1 | F29: =SUM(C29:E29) -> 18
B30: Santa Elena | C30: 1 | D30: - | E30: - | F30: =SUM(C30:E30) -> 1
B31: Santo Domingo de los Tsáchilas | C31: - | D31: - | E31: - | F31: =SUM(C31:E31) -> 0
B32: Sucumbios | C32: - | D32: - | E32: - | F32: =SUM(C32:E32) -> 0
B33: Tungurahua | C33: 8 | D33: - | E33: - | F33: =SUM(C33:E33) -> 8
B34: Zamora Chinchipe | C34: - | D34: - | E34: - | F34: =SUM(C34:E34) -> 0
B35: Total General | C35: =SUM(C11:C34) -> 67 | D35: =SUM(D11:D34) -> 6 | E35: =SUM(E11:E34) -> 6 | F35: =SUM(F11:F34) -> 79
B37: Se incluye matrices y repetidoras

Sheet RADIO AM (GRAFICO)
C2: RADIODIFUSIÓN SONORA Y TELEVISIÓN ABIERTA
C3: Categoria: Infraestructura
C4: Gráfico de número de estaciones concesionadas de Radiodifusión Sonora AM
C6: =Indice!C6 -> Fuente: ARCOTEL
C7: =Indice!C7 -> Fecha de publicación: Agosto 2026 | N7: Regresar al Índice
C8: =Indice!C8 -> Fecha de corte: Julio 2026

Sheet RADIO FM (DATOS)
B2: RADIODIFUSIÓN SONORA Y TELEVISIÓN ABIERTA
B3: Categoria: Infraestructura
B4: Número de estaciones concesionadas de Radiodifusión Sonora FM
B6: =Indice!C6 -> Fuente: ARCOTEL
B7: =Indice!C7 -> Fecha de publicación: Agosto 2026 | E7: Regresar al Índice
B8: =Indice!C8 -> Fecha de corte: Julio 2026
B10: PROVINCIA | C10: Comercial Privada | D10: Servicio Público | E10: Servicio Público Comunitario | F10: Total por Provincia
B11: Azuay | C11: 81 | D11: 14 | E11: 8 | F11: =SUM(C11:E11) -> 103
B12: Bolívar | C12: 32 | D12: 7 | E12: 8 | F12: =SUM(C12:E12) -> 47
B13: Cañar | C13: 46 | D13: 1 | E13: 6 | F13: =SUM(C13:E13) -> 53
B14: Carchi | C14: 29 | D14: 10 | E14: 2 | F14: =SUM(C14:E14) -> 41
B15: Chimborazo | C15: 56 | D15: 10 | E15: 16 | F15: =SUM(C15:E15) -> 82
B16: Cotopaxi | C16: 27 | D16: 8 | E16: 5 | F16: =SUM(C16:E16) -> 40
B17: El Oro | C17: 45 | D17: 6 | E17: 5 | F17: =SUM(C17:E17) -> 56
B18: Esmeraldas | C18: 21 | D18: 11 | E18: 4 | F18: =SUM(C18:E18) -> 36
B19: Galápagos | C19: 2 | D19: 5 | E19: 5 | F19: =SUM(C19:E19) -> 12
B20: Guayas | C20: 54 | D20: 5 | E20: 3 | F20: =SUM(C20:E20) -> 62
B21: Imbabura | C21: 26 | D21: 12 | E21: 6 | F21: =SUM(C21:E21) -> 44
B22: Loja | C22: 68 | D22: 19 | E22: 13 | F22: =SUM(C22:E22) -> 100
... B34: Zamora Chinchipe | C34: 31 | D34: 9 | E34: 0 | F34: =SUM(C34:E34) -> 40
B35: Total General | C35: =SUM(C11:C34) -> 796 | D35: =SUM(D11:D34) -> 194 | E35: =SUM(E11:E34) -> 127 | F35: =SUM(C35:E35) -> 1117
B38: Se incluye matrices y repetidoras

Sheet RADIO FM (GRAFICO)
C2: RADIODIFUSIÓN SONORA Y TELEVISIÓN ABIERTA
C3: Categoria: Infraestructura
C4: Gráfico de número de estaciones concesionadas de Radiodifusión Sonora FM
C6: =Indice!C6 -> Fuente: ARCOTEL
C7: =Indice!C7 -> Fecha de publicación: Agosto 2026 | N7: Regresar al Índice
C8: =Indice!C8 -> Fecha de corte: Julio 2026
