{"text_format":"1","workbook":"xlsx","n_sheets":6,"sheets":["1427-1525 MHz","3800-4200 MHz","5925-6425 MHz","7125-8500 MHz","14400 - 15350 MHz","Comparativo"],"not_rendered":{"charts":0,"images":1,"macros":1,"external_links":0,"defined_names":2,"comments":0,"pivot_tables":0},"unopened":[],"bounds":{"document_bytes":16777216,"sheet_cells":100000,"rows_first":2000,"rows_last":500,"rows_between":2000,"halvings":0,"cell_chars":16384,"cell_head_chars":4096},"cells_cut":0,"cells_raw":0,"read":"whole","date_system":"1900"}

{"sheet":"1427-1525 MHz","index":0,"n_rows":143,"n_cols":12,"rows_kept":143,"cut":false,"hidden":false,"merged":[[11,6,12,6],[2,2,2,5],[5,3,5,5],[11,1,12,1],[11,2,12,2],[11,3,12,3],[11,4,12,4],[11,5,12,5]]}
[]
[]
[null,null,"Espectro Radioeléctrico"]
[]
[null,null,"Comparativo anual - Porcentajes de ocupación del espectro radioeléctrico por sitios en la banda 1 427 - 1 525 MHz"]
[]
[]
[null,null,"Fecha de publicación: 20 de enero de 2015"]
[]
[]
[]
[null,"Nombre","Latitud","Longitud","Cantón","Hsnm(m)","Gráficos",2010,2011,2012,2013,2014]
[null,null,null,null,null,null,null,"Ocupacion (%)","Ocupacion (%)","Ocupacion (%)","Ocupacion (%)","Ocupacion (%)"]
[null,"Barabon","02°53'34.40''S","79°05'15.10''W","Cuenca",3351,null,0,0,0,0,0]
[null,"Cerro Cahuazhun","02°52'33.40''S","78°49'01.60''W","Gualaceo",2999,null,0,0,0,0,0]
[null,"Cerro Cochapamba","02°47'41.10''S","79°25'39.10''W","Cuenca",3714,null,0,0,0,0,0]
[null,"Cerro Guagualzhumi","02°53'32.50''S","78°54'39.60''W","Cuenca",3079,null,0,0,0,0,0]
[null,"Cerro Guallil","03°04'30.90''S","78°48'58.70''W","Sigsig",3284,null,10.204081632653057,57.589285714285715,57.59,57.59,32.142857142857146]
[null,"Cerro Hito Cruz","02°55'51.50''S","78°59'51.70''W","Cuenca",2847,null,21.428571428571431,48.883928571428569,16.29,16.29,23.4375]
[null,"Cerro Rayoloma","02°54'13.00''S","78°57'59.20''W","Cuenca",2649,null,3.5714285714285694,16.294642857142858,16.29,16.29,16.294642857142858]
[null,"Cerro Rumiloma (Amopungo - Señor Pungo)","02°48'19.00''S","78°49'19.30''W","Paute",3175,null,5.1020408163265358,17.410714285714285,17.41,17.41,17.410714285714285]
[null,"Cerro Turi","02°55'22.90''S","79°00'32.80''W","Cuenca",2730,null,0,0,0,0,0]
[null,"Sector Nero - Zhuzhun","02°56'48.30''S","79°03'46.20''W","Cuenca",2932,null,0,0,0,0,0]
[null,"Tipoloma Alto","03°08'13.20''S","79°05'09.70''W","Girón",3177,null,5.1020408163265358,25,25,25,51.339285714285715]
[null,"Tipoloma Bajo","03°07'41.50''S","79°05'17.90''W","Girón",3086,null,0,0,0,0,0]
[null,"Cerro Paredones","02°44'38.30''S","79°26'26.60''W","Cuenca",3668,null,0,0,0,0,0]
[null,"Cuchilla de Paredones","02°44'10.70''S","79°26'43.10''W","Cuenca",3311,null,0,0,0,0,0]
[null,"Bilovan","01°48'09.10''S","79°06'17.20''W","San Miguel",2662,null,5.1020408163265358,26.339285714285715,26.34,26.34,26.339285714285715]
[null,"Cerro Capadia Alto","01°25'24.20''S","78°57'01.10''W","Guaranda",4460,null,0,0,0,0,0]
[null,"Cerro Capadia Chico","01°25'54.10''S","78°56'19.70''W","Guaranda",4384,null,0,0,0,0,0]
[null,"Cerro de la Cocha","01°50'38.90''S","79°09'52.80''W","San Miguel",2496,null,0,0,0,0,0]
[null,"Cerro Ilambulo","01°42'18.60''S","79°05'32.60''W","San Miguel",3213,null,7.1428571428571388,16.294642857142858,16.29,16.29,16.294642857142858]
[null,"Cerro Pucará","01°39'04.50''S","79°06'10.70''W","Chimbo",3063,null,0,0,0,0,0]
[null,"Cochambamba (Chuchi)","01°41'56.20''S","79°06'20.60''W","San Miguel",3072,null,10.204081632653057,0,38.619999999999997,38.619999999999997,0]
[null,"Cochabamba (Tundaloma)","01°41'35.30''S","79°06'28.20''W","San Miguel",3018,null,10.204081632653057,0,38.619999999999997,38.619999999999997,0]
[null,"Loma de Lourdes","01°42'19.70''S","79°04'49.20''W","San Miguel",3281,null,10.204081632653057,42.857142857142854,42.86,42.86,42.857142857142854]
[null,"Loma Susanga","01°40'23.00''S","79°01'08.80''W","Chimbo",2879,null,10.204081632653057,32.142857142857146,32.14,32.14,32.142857142857146]
[null,"Padre Urcu","01°42'21.80''S","79°05'45.70''W","San Miguel",3181,null,7.1428571428571388,16.294642857142858,16.29,16.29,16.294642857142858]
[null,"Tiuguinal","01°22'00.30''S","79°00'25.10''W","Guaranda",4126,null,0,0,0,0,0]
[null,"Biblian (Sagrado Corazón)","02°43'07.70''S","78°52'53.40''W","Biblián",2878,null,0,0,0,0,0]
[null,"Cerro Altar Urcu","02°28'48.90''S","78°59'36.30''W","Cañar",3215,null,10.204081632653057,32.589285714285715,0,0,0]
[null,"Cerro Buerán","02°36'31.10''S","78°55'50.90''W","Biblián",3816,null,10.204081632653057,25.892857142857142,25.89,25.89,25.892857142857142]
[null,"Cerro Buerán(Tierras Negras)","02°35'59.40''S","78°55'44.40''W","Biblián",3828,null,10.204081632653057,25.892857142857142,25.89,25.89,25.892857142857142]
[null,"Cerro Carshao","02°26'23.20''S","78°57'03.80''W","Cañar",4017,null,15.306122448979593,40.178571428571431,38.619999999999997,38.619999999999997,38.616071428571431]
[null,"Cerro Carshao Bajo","02°26'08.10''S","78°56'52.20''W","Cañar",4003,null,15.306122448979593,40.178571428571431,38.619999999999997,38.619999999999997,38.616071428571431]
[null,"Cerro Cojitambo","02°45'40.70''S","78°53'16.40''W","Azoguez",3106,null,0,0,0,0,0]
[null,"Cerro Villaflor","02°49'44.60''S","78°48'12.30''W","Azoguez",3042,null,0,0,0,0,0]
[null,"Cerro Troya","00°44'24.50''N","77°41'48.70''W","Tulcán",3529,null,10.204081632653057,51.785714285714285,0,0,51.785714285714285]
[null,"Cerro Troya Bajo","00°44'09.50''N","77°42'22.80''W","Tulcán",3418,null,0,0,0,0,0]
[null,"Cerro Cabras","00°28'15.00''N","77°57'50.70''W","Bolívar",2904,null,10.204081632653057,51.785714285714285,0,0,26.339285714285715]
[null,"Cerro Chiles Alto","00°35'14.40''N","77°51'04.00''W","Montúfar",3093,null,0,0,0,0,0]
[null,"Agua Santa","01°41'46.80''S","78°39'59.80''W","Riobamba",3006,null,0,0,1.34,1.34,1.3392857142857142]
[null,"Cerro Amula Rayoloma","01°41'22.10''S","78°43'45.70''W","Colta",3485,null,0,0,0,0,0]
[null,"Cerro Gatazo Grande","01°39'41.30''S","78°45'00.80''W","Colta",3188,null,0,0,0,0,0]
[null,"Cerro Higno Cacha","01°41'31.90''S","78°42'58.60''W","Riobamba",3567,null,0,0,0,0,0]
[null,"Cerro La Mira","01°30'32.70''S","78°35'05.20''W","Guano",3881,null,15.306122448979593,71.875,71.88,71.88,71.875]
[null,"Cerro La Mira (Senincahuan)","01°41'31.90''S","78°42'58.60''W","Riobamba",3947,null,0,0,0,0,0]
[null,"Cerro Achayandi","00°57'07.70''S","78°55'32.90''W","Pujulí",4102,null,5.1020408163265358,26.339285714285715,51.79,51.79,26.339285714285715]
[null,"Cerro Apagua","00°58'32.00''S","78°56'58.00''W","Pujulí",4032,null,0,0,0,0,0]
[null,"Cerro Putzalagua","00°57'56.00''S","78°33'42.70''W","Latacunga",3531,null,0,0,0,0,0]
[null,"Chasqui","00°37'15.30''S","78°35'37.20''W","Latacunga",3532,null,0,0,0,0,0]
[null,"Cerro Chilla","03°29'09.70''S","79°36'04.70''W","Chilla",3450,null,0,0,0,0,0]
[null,"Cerro Chilola","03°30'00.90''S","79°37'52.50''W","Chilla",3596,null,0,0,0,0,0]
[null,"Cerro El Trigal","03°41'23.20''S","79°39'33.90''W","Piñas",1292,null,0,0,0,0,0]
[null,"Cerro Guirillio","03°09'57.50''S","79°36'20.40''W","El Guabo",3192,null,0,0,0,0,0]
[null,"Cerro La Chuva","03°43'03.00''S","79°39'11.30''W","Piñas",1282,null,0,13.169642857142858,13.17,13.17,13.169642857142858]
[null,"Cerro Repen","03°33'01.80''S","79°41'02.70''W","Atahualpa",2369,null,5.1020408163265358,51.339285714285715,51.34,51.34,51.339285714285715]
[null,"Cerro Balao (Esmeraldas)","00°57'41.30''N","79°41'25.70''W","Esmeraldas",192,null,0,0,0,0,0]
[null,"Cerro Don Juan","00°50'51.20''N","79°53'52.40''W","Atacames",262,null,15.306122448979593,72.767857142857139,0,0,72.767857142857139]
[null,"Cerro Gatazo ","00°56'38.40''N","79°39'29.70''W","Esmeraldas",271,null,5.1020408163265358,38.616071428571431,8.93,8.93,26.339285714285715]
[null,"Cerro La Juanita","00°28'02.20''N","79°34'40.50''W","Quinindé",502,null,10.204081632653057,39.508928571428569,0,0,39.508928571428569]
[null,"Cerro Zapallo","00°53'05.30''N","79°31'52.20''W","Esmeraldas",690,null,15.306122448979593,53.348214285714285,0,0,51.785714285714285]
[null,"Cerro Animas","02°28'28.20''S","80°28'03.40''W","Guayaquil",427,null,33.673469387755105,82.589285714285708,82.14,82.14,70.535714285714292]
[null,"Cerro Azul","02°09'57.40''S","79°57'24.80''W","Guayaquil",324,null,48.214285714285715,97.098214285714292,81.47,81.47,81.473214285714292]
[null,"Cerro Azul Alto (507)","02°09'05.10''S","79°59'01.80''W","Guayaquil",398,null,0,0,0,0,0]
[null,"Cerro Balao","02°45'58.90''S","79°39'52.90''W","Naranjal",490,null,15.306122448979593,48.883928571428569,48.88,48.88,47.321428571428569]
[null,"Cerro Bellavista","02°10'57.10''S","79°54'51.30''W","Guayaquil",100,null,10.204081632653057,26.339285714285715,10.039999999999999,10.039999999999999,0]
[null,"Cerro El Carmen","02°10'47.60''S","79°52'50.00''W","Guayaquil",80,null,24.489795918367349,47.321428571428569,43.08,43.08,43.080357142857146]
[null,"Cerro González","02°20'57.30''S","80°32'36.70''W","Guayaquil",296,null,10.204081632653057,39.508928571428569,26.34,26.34,39.508928571428569]
[null,"Cerro Mapasingue","02°08'49.80''S","79°55'40.80''W","Guayaquil",120,null,14.285714285714292,27.232142857142858,1.34,1.34,0]
[null,"Cerro San Eduardo","02°10'28.00''S","79°55'07.30''W","Guayaquil",160,null,3.0612244897959187,10.044642857142858,11.38,11.38,0]
[null,"Cerro Santa Ana","01°55'45.30''S","79°45'50.10''W","San Borondón",300,null,25.510204081632651,73.4375,73.44,73.44,65.848214285714292]
[null,"Cerro Tanzarte (Cruz Loma)","02°45'17.90''S","79°23'59.80''W","Naranjal",2894,null,4.0816326530612201,13.392857142857142,13.39,13.39,13.392857142857142]
[null,"Cerro Blanco","00°12'33.70''N","78°20'16.40''W","Otavalo",3545,null,12.244897959183675,39.285714285714285,0,0,34.151785714285715]
[null,"Cerro Cotacachi","00°19'57.30''N","78°20'24.60''W","Cotacachi",4047,null,7.1428571428571388,16.294642857142858,0,0,0]
[null,"Cerro Calvario (Loja)","04°02'47.00''S","79°39'05.80''W","Paltas",1935,null,0,0,0,0,0]
[null,"Cerro Colambo","04°14'14.60''S","79°23'45.40''W","Gonzanamá",3103,null,0,0,0,0,0]
[null,"Cerro Guachaurco","04°02'11.70''S","79°52'19.40''W","Paltas",3102,null,0,0,0,0,0]
[null,"Cerro Guanchuro","04°04'28.80''S","79°38'54.90''W","Paltas",2446,null,0,0,0,0,0]
[null,"Cerro Huanchinchambo","04°01'25.20''S","79°14'45.90''W","Catamayo",2849,null,0,0,0,0,0]
[null,"Cerro Motilon","04°04'57.10''S","79°56'22.20''W","Celica",2663,null,0,0,0,0,0]
[null,"Cerro Ventanas","04°01'54.10''S","79°14'39.00''W","Catamayo",2870,null,0,0,0,0,0]
[null,"Cerro Villonaco Alto","03°59'18.70''S","79°16'06.30''W","Catamayo",2952,null,0,0,0,0,0]
[null,"Pucará","04°05'47.80''S","79°56'17.70''W","Celica",2479,null,0,0,0,0,0]
[null,"Saraguro","03°37'55.20''S","79°14'37.50''W","Saraguro",2740,null,0,0,0,0,0]
[null,"Cerro Corozo","01°29'23.10''S","80°31'27.00''W","Jipijapa",774,null,15.306122448979593,52.455357142857146,52.46,52.46,52.455357142857146]
[null,"Cerro de Hojas","01°02'40.10''S","80°32'38.50''W","Portoviejo",674,null,43.367346938775512,93.973214285714292,61.83,61.83,60.044642857142854]
[null,"Cerro Guayas","00°41'18.10''S","80°05'27.90''W","Chone",128,null,0,0,0,0,0]
[null,"Cerro Jama 1","00°12'29.40''S","80°16'08.70''W","Jama",93,null,0,0,0,0,0]
[null,"Cerro Jama 2","00°12'58.90''S","80°16'44.50''W","Jama",140,null,0,0,0,0,0]
[null,"Cerro La Crespa","00°20'07.10''S","79°45'34.70''W","Flavio Alfaro",480,null,5.1020408163265358,26.339285714285715,0,0,0]
[null,"Cerro Nueve","00°16'05.30''S","80°12'29.90''W","Jama",652,null,10.204081632653057,39.508928571428569,13.17,13.17,0]
[null,"Cerro Puerto Alto","00°21'36.30''S","79°52'00.40''W","Flavio Alfaro",410,null,0,0,0,0,0]
[null,"Loma de Viento","00°42'28.10''S","80°24'28.80''W","Sucre",402,null,15.306122448979593,52.455357142857146,52.46,52.46,51.339285714285715]
[null,"Mirador de Bahía de Caráquez","00°36'28.00''S","80°25'34.70''W","Sucre",102,null,0,0,0,0,0]
[null,"Cerro Bosco","03°00'01.00''S","78°30'34.90''W","Limón Indanza",2404,null,5.1020408163265358,26.339285714285715,0,0,26.339285714285715]
[null,"Cerro Quilamo","02°18'14.40''S","78°08'26.80''W","Morona",1461,null,0,0,0,0,0]
[null,"Cerro Condijua","00°29'01.60''S","77°54'06.90''W","Quijos",2526,null,5.1020408163265358,17.410714285714285,17.41,17.41,17.410714285714285]
[null,"Cerro Huacamayos","00°37'26.06''S","77°50'28.60''W","Archidona",2300,null,0,0,0,0,0]
[null,"Cerro Tres Cruces","00°16'22.60''S","77°45'53.80''W","El Chaco",1980,null,0,0,0,0,0]
[null,"Papallacta","00°22'43.70''S","78°08'48.60''W","Quijos",3373,null,0,0,0,0,0]
[null,"Cerro Lumbaqui Alto","00°00'30.40''N","77°19'15.80''W","Orellana",1088,null,20.408163265306129,51.339285714285715,0,0,25.892857142857142]
[null,"Cerro Lumbaqui Bajo","00°01'47.70''N","77°19'07.90''W","Orellana",998,null,0,0,0,0,0]
[null,"Cerro Abitagua","01°24'53.90''S","78°08'31.00''W","Mera",2250,null,10.204081632653057,39.732142857142854,26.34,26.34,0]
[null,"Cerro Calvario","01°31'14.30''S","77°54'28.50''W","Pastaza",1171,null,10.204081632653057,32.142857142857146,32.14,32.14,32.142857142857146]
[null,"Santa Clara(Km.35 Vía Puyo - Tena)","01°17'29.30''S","77°52'36.80''W","Santa Clara",1080,null,10.204081632653057,42.857142857142854,42.86,42.86,42.857142857142854]
[null,"Cerro Cayambe","00°03'58.00''N","77°59'25.80''W","Cayambe",4216,null,0,0,0,0,0]
[null,"Cerro Cruz Loma","00°11'17.50''S","78°32'06.70''W","Quito",3990,null,30.612244897959187,92.1875,0,0,92.1875]
[null,"Cerro Ilumbisi","00°13'40.60''S","78°28'25.70''W","Quito",3040,null,17.34693877551021,45.982142857142854,0,0,18.75]
[null,"Cerro La Virgen","00°19'06.90''S","78°11'27.60''W","Quito",4412,null,0,0,0,0,0]
[null,"Cerro Puengasí","00°14'43.40''S","78°29'59.70''W","Quito",3085,null,0,0,0,0,0]
[null,"Mojanda","00°04'47.30''N","78°13'43.20''W","Pedro Moncayo",3241,null,3.5714285714285694,17.857142857142858,17.86,17.86,17.857142857142858]
[null,"Sector Ferroviaria y la Florestal","00°15'48.00''S","78°30'25.00''W","Quito",3179,null,6.1224489795918373,10.044642857142858,10.039999999999999,10.039999999999999,16.294642857142858]
[null,"Cerro Condorcocha","00°02'19.10''S","78°30'41.00''W","Quito",3586,null,3.0612244897959187,18.75,0,0,18.75]
[null,"Cerro San Francisco","00°23'24.89''S","78°37'06.79''W","Mejía",4097,null,0,0,0,0,0]
[null,"Cerro Tinajero","00°22'53.08''S","78°36'36.19''W","Mejía",4082,null,0,0,0,0,0]
[null,"Cerro La Viudita","00°24'50.70''S","78°36'27.00''W","Mejía",3751,null,0,0,0,0,0]
[null,"Cerro Hacda El Rosario","00°26'14.60''S","78°32'12.50''W","Mejía",2981,null,5.1020408163265358,13.169642857142858,0,0,13.169642857142858]
[null,"Cerro Atacazo Alto","00°21'22.20''S","78°37'09.10''W","Quito",4474,null,0,0,0,0,0]
[null,"Cerro Atacazo Bajo","00°19'05.10''S","78°36'08.10''W","Quito",3893,null,0,0,0,0,0]
[null,"Cerro Pichincha","00°09'57.03''S","78°31'39.19''W","Quito",3901,null,16.326530612244895,35.714285714285715,16.29,16.29,0]
[null,"Cerro Capáes","02°12'32.40''S","80°51'47.50''W","Santa Elena",102,null,0,0,0,0,0]
[null,"Cerro Bijagual","00°39'28.70''S","79°17'41.00''W","Sto Domingo",798,null,10.204081632653057,39.508928571428569,39.51,39.51,51.785714285714285]
[null,"Cerro Bomboli","00°14'48.20''S","79°11'31.30''W","Sto Domingo",636,null,37.755102040816325,83.928571428571431,70.31,70.31,70.3125]
[null,"Cerro Chiguilpe Alto","00°17'44.70''S","79°05'12.10''W","Sto Domingo",1172,null,0,0,0,0,0]
[null,"Cerro Chiguilpe Bajo","00°16'51.30''S","79°05'26.40''W","Sto Domingo",801,null,0,0,0,0,0]
[null,"Cerro San Luis","00°35'10.70''S","79°19'18.80''W","Sto Domingo",412,null,0,0,0,0,0]
[null,"Cerro Bermejo","00°08'09.10''N","77°19'39.90''W","Cascales",994,null,0,0,0,0,0]
[null,"Cerro Reventador","00°02'33.90''S","77°31'44.10''W","Gonzalo Pizarro",1600,null,5.1020408163265358,0,13.17,13.17,0]
[null,"Cerro Niton","01°16'41.60''S","78°32'10.20''W","San Pedro de Pelileo",3079,null,0,0,0,0,0]
[null,"Cerro Pilisurco o Saguatoa","01°09'17.20''S","78°39'58.00''W","Ambato",4154,null,0,0,0,0,0]
[null,"Cerro Salvación (Lligua)","01°22'44.90''S","78°26'11.80''W","Baños",2696,null,0,0,0,0,0]
[null,"Llantantoma","01°09'56.40''S","78°37'53.90''W","Ambato",3450,null,0,0,0,0,0]

{"sheet":"3800-4200 MHz","index":1,"n_rows":143,"n_cols":8,"rows_kept":143,"cut":false,"hidden":false,"merged":[[11,6,12,6],[4,2,6,7],[2,2,2,5],[11,1,12,1],[11,2,12,2],[11,3,12,3],[11,4,12,4],[11,5,12,5]]}
[]
[]
[null,null,"Espectro Radioeléctrico"]
[]
[null,null,"Comparativo anual - Porcentajes de ocupación del espectro radioeléctrico por sitios en la banda 5 925 - 6 425 MHz"]
[]
[]
[null,null,"Fecha de publicación: 20 de enero de 2015"]
[]
[]
[]
[null,{"$f":"'1427-1525 MHz'!B12","v":"Nombre"},"Latitud","Longitud","Cantón","Hsnm(m)","Gráficos",2014]
[null,null,null,null,null,null,null,"Ocupacion (%)"]
[null,"Barabon","02°53'34.40''S","79°05'15.10''W","Cuenca",3351,null,0]
[null,"Cerro Cahuazhun","02°52'33.40''S","78°49'01.60''W","Gualaceo",2999,null,0]
[null,"Cerro Cochapamba","02°47'41.10''S","79°25'39.10''W","Cuenca",3714,null,0]
[null,"Cerro Guagualzhumi","02°53'32.50''S","78°54'39.60''W","Cuenca",3079,null,0]
[null,"Cerro Guallil","03°04'30.90''S","78°48'58.70''W","Sigsig",3284,null,0]
[null,"Cerro Hito Cruz","02°55'51.50''S","78°59'51.70''W","Cuenca",2847,null,33.333333333333336]
[null,"Cerro Rayoloma","02°54'13.00''S","78°57'59.20''W","Cuenca",2649,null,0]
[null,"Cerro Rumiloma (Amopungo - Señor Pungo)","02°48'19.00''S","78°49'19.30''W","Paute",3175,null,100]
[null,"Cerro Turi","02°55'22.90''S","79°00'32.80''W","Cuenca",2730,null,0]
[null,"Sector Nero - Zhuzhun","02°56'48.30''S","79°03'46.20''W","Cuenca",2932,null,0]
[null,"Tipoloma Alto","03°08'13.20''S","79°05'09.70''W","Girón",3177,null,100]
[null,"Tipoloma Bajo","03°07'41.50''S","79°05'17.90''W","Girón",3086,null,0]
[null,"Cerro Paredones","02°44'38.30''S","79°26'26.60''W","Cuenca",3668,null,0]
[null,"Cuchilla de Paredones","02°44'10.70''S","79°26'43.10''W","Cuenca",3311,null,0]
[null,"Bilovan","01°48'09.10''S","79°06'17.20''W","San Miguel",2662,null,0]
[null,"Cerro Capadia Alto","01°25'24.20''S","78°57'01.10''W","Guaranda",4460,null,0]
[null,"Cerro Capadia Chico","01°25'54.10''S","78°56'19.70''W","Guaranda",4384,null,66.666666666666671]
[null,"Cerro de la Cocha","01°50'38.90''S","79°09'52.80''W","San Miguel",2496,null,0]
[null,"Cerro Ilambulo","01°42'18.60''S","79°05'32.60''W","San Miguel",3213,null,0]
[null,"Cerro Pucará","01°39'04.50''S","79°06'10.70''W","Chimbo",3063,null,0]
[null,"Cochambamba (Chuchi)","01°41'56.20''S","79°06'20.60''W","San Miguel",3072,null,0]
[null,"Cochabamba (Tundaloma)","01°41'35.30''S","79°06'28.20''W","San Miguel",3018,null,0]
[null,"Loma de Lourdes","01°42'19.70''S","79°04'49.20''W","San Miguel",3281,null,0]
[null,"Loma Susanga","01°40'23.00''S","79°01'08.80''W","Chimbo",2879,null,0]
[null,"Padre Urcu","01°42'21.80''S","79°05'45.70''W","San Miguel",3181,null,0]
[null,"Tiuguinal","01°22'00.30''S","79°00'25.10''W","Guaranda",4126,null,0]
[null,"Biblian (Sagrado Corazón)","02°43'07.70''S","78°52'53.40''W","Biblián",2878,null,0]
[null,"Cerro Altar Urcu","02°28'48.90''S","78°59'36.30''W","Cañar",3215,null,33.333333333333336]
[null,"Cerro Buerán","02°36'31.10''S","78°55'50.90''W","Biblián",3816,null,100]
[null,"Cerro Buerán(Tierras Negras)","02°35'59.40''S","78°55'44.40''W","Biblián",3828,null,100]
[null,"Cerro Carshao","02°26'23.20''S","78°57'03.80''W","Cañar",4017,null,100]
[null,"Cerro Carshao Bajo","02°26'08.10''S","78°56'52.20''W","Cañar",4003,null,100]
[null,"Cerro Cojitambo","02°45'40.70''S","78°53'16.40''W","Azoguez",3106,null,0]
[null,"Cerro Villaflor","02°49'44.60''S","78°48'12.30''W","Azoguez",3042,null,0]
[null,"Cerro Troya","00°44'24.50''N","77°41'48.70''W","Tulcán",3529,null,100]
[null,"Cerro Troya Bajo","00°44'09.50''N","77°42'22.80''W","Tulcán",3418,null,0]
[null,"Cerro Cabras","00°28'15.00''N","77°57'50.70''W","Bolívar",2904,null,100]
[null,"Cerro Chiles Alto","00°35'14.40''N","77°51'04.00''W","Montúfar",3093,null,0]
[null,"Agua Santa","01°41'46.80''S","78°39'59.80''W","Riobamba",3006,null,0]
[null,"Cerro Amula Rayoloma","01°41'22.10''S","78°43'45.70''W","Colta",3485,null,0]
[null,"Cerro Gatazo Grande","01°39'41.30''S","78°45'00.80''W","Colta",3188,null,0]
[null,"Cerro Higno Cacha","01°41'31.90''S","78°42'58.60''W","Riobamba",3567,null,0]
[null,"Cerro La Mira","01°30'32.70''S","78°35'05.20''W","Guano",3881,null,100]
[null,"Cerro La Mira (Senincahuan)","01°41'31.90''S","78°42'58.60''W","Riobamba",3947,null,0]
[null,"Cerro Achayandi","00°57'07.70''S","78°55'32.90''W","Pujulí",4102,null,0]
[null,"Cerro Apagua","00°58'32.00''S","78°56'58.00''W","Pujulí",4032,null,0]
[null,"Cerro Putzalagua","00°57'56.00''S","78°33'42.70''W","Latacunga",3531,null,0]
[null,"Chasqui","00°37'15.30''S","78°35'37.20''W","Latacunga",3532,null,100]
[null,"Cerro Chilla","03°29'09.70''S","79°36'04.70''W","Chilla",3450,null,0]
[null,"Cerro Chilola","03°30'00.90''S","79°37'52.50''W","Chilla",3596,null,0]
[null,"Cerro El Trigal","03°41'23.20''S","79°39'33.90''W","Piñas",1292,null,0]
[null,"Cerro Guirillio","03°09'57.50''S","79°36'20.40''W","El Guabo",3192,null,0]
[null,"Cerro La Chuva","03°43'03.00''S","79°39'11.30''W","Piñas",1282,null,0]
[null,"Cerro Repen","03°33'01.80''S","79°41'02.70''W","Atahualpa",2369,null,0]
[null,"Cerro Balao (Esmeraldas)","00°57'41.30''N","79°41'25.70''W","Esmeraldas",192,null,0]
[null,"Cerro Don Juan","00°50'51.20''N","79°53'52.40''W","Atacames",262,null,0]
[null,"Cerro Gatazo ","00°56'38.40''N","79°39'29.70''W","Esmeraldas",271,null,0]
[null,"Cerro La Juanita","00°28'02.20''N","79°34'40.50''W","Quinindé",502,null,0]
[null,"Cerro Zapallo","00°53'05.30''N","79°31'52.20''W","Esmeraldas",690,null,0]
[null,"Cerro Animas","02°28'28.20''S","80°28'03.40''W","Guayaquil",427,null,16.666666666666668]
[null,"Cerro Azul","02°09'57.40''S","79°57'24.80''W","Guayaquil",324,null,100]
[null,"Cerro Azul Alto (507)","02°09'05.10''S","79°59'01.80''W","Guayaquil",398,null,0]
[null,"Cerro Balao","02°45'58.90''S","79°39'52.90''W","Naranjal",490,null,33.333333333333336]
[null,"Cerro Bellavista","02°10'57.10''S","79°54'51.30''W","Guayaquil",100,null,0]
[null,"Cerro El Carmen","02°10'47.60''S","79°52'50.00''W","Guayaquil",80,null,0]
[null,"Cerro González","02°20'57.30''S","80°32'36.70''W","Guayaquil",296,null,100]
[null,"Cerro Mapasingue","02°08'49.80''S","79°55'40.80''W","Guayaquil",120,null,0]
[null,"Cerro San Eduardo","02°10'28.00''S","79°55'07.30''W","Guayaquil",160,null,0]
[null,"Cerro Santa Ana","01°55'45.30''S","79°45'50.10''W","San Borondón",300,null,100]
[null,"Cerro Tanzarte (Cruz Loma)","02°45'17.90''S","79°23'59.80''W","Naranjal",2894,null,0]
[null,"Cerro Blanco","00°12'33.70''N","78°20'16.40''W","Otavalo",3545,null,100]
[null,"Cerro Cotacachi","00°19'57.30''N","78°20'24.60''W","Cotacachi",4047,null,16.666666666666668]
[null,"Cerro Calvario (Loja)","04°02'47.00''S","79°39'05.80''W","Paltas",1935,null,0]
[null,"Cerro Colambo","04°14'14.60''S","79°23'45.40''W","Gonzanamá",3103,null,100]
[null,"Cerro Guachaurco","04°02'11.70''S","79°52'19.40''W","Paltas",3102,null,0]
[null,"Cerro Guanchuro","04°04'28.80''S","79°38'54.90''W","Paltas",2446,null,0]
[null,"Cerro Huanchinchambo","04°01'25.20''S","79°14'45.90''W","Catamayo",2849,null,100]
[null,"Cerro Motilon","04°04'57.10''S","79°56'22.20''W","Celica",2663,null,0]
[null,"Cerro Ventanas","04°01'54.10''S","79°14'39.00''W","Catamayo",2870,null,100]
[null,"Cerro Villonaco Alto","03°59'18.70''S","79°16'06.30''W","Catamayo",2952,null,0]
[null,"Pucará","04°05'47.80''S","79°56'17.70''W","Celica",2479,null,0]
[null,"Saraguro","03°37'55.20''S","79°14'37.50''W","Saraguro",2740,null,0]
[null,"Cerro Corozo","01°29'23.10''S","80°31'27.00''W","Jipijapa",774,null,100]
[null,"Cerro de Hojas","01°02'40.10''S","80°32'38.50''W","Portoviejo",674,null,100]
[null,"Cerro Guayas","00°41'18.10''S","80°05'27.90''W","Chone",128,null,0]
[null,"Cerro Jama 1","00°12'29.40''S","80°16'08.70''W","Jama",93,null,0]
[null,"Cerro Jama 2","00°12'58.90''S","80°16'44.50''W","Jama",140,null,0]
[null,"Cerro La Crespa","00°20'07.10''S","79°45'34.70''W","Flavio Alfaro",480,null,66.666666666666671]
[null,"Cerro Nueve","00°16'05.30''S","80°12'29.90''W","Jama",652,null,66.666666666666671]
[null,"Cerro Puerto Alto","00°21'36.30''S","79°52'00.40''W","Flavio Alfaro",410,null,0]
[null,"Loma de Viento","00°42'28.10''S","80°24'28.80''W","Sucre",402,null,33.333333333333336]
[null,"Mirador de Bahía de Caráquez","00°36'28.00''S","80°25'34.70''W","Sucre",102,null,0]
[null,"Cerro Bosco","03°00'01.00''S","78°30'34.90''W","Limón Indanza",2404,null,0]
[null,"Cerro Quilamo","02°18'14.40''S","78°08'26.80''W","Morona",1461,null,0]
[null,"Cerro Condijua","00°29'01.60''S","77°54'06.90''W","Quijos",2526,null,33.333333333333336]
[null,"Cerro Huacamayos","00°37'26.06''S","77°50'28.60''W","Archidona",2300,null,0]
[null,"Cerro Tres Cruces","00°16'22.60''S","77°45'53.80''W","El Chaco",1980,null,0]
[null,"Papallacta","00°22'43.70''S","78°08'48.60''W","Quijos",3373,null,0]
[null,"Cerro Lumbaqui Alto","00°00'30.40''N","77°19'15.80''W","Orellana",1088,null,0]
[null,"Cerro Lumbaqui Bajo","00°01'47.70''N","77°19'07.90''W","Orellana",998,null,0]
[null,"Cerro Abitagua","01°24'53.90''S","78°08'31.00''W","Mera",2250,null,66.666666666666671]
[null,"Cerro Calvario","01°31'14.30''S","77°54'28.50''W","Pastaza",1171,null,33.333333333333336]
[null,"Santa Clara(Km.35 Vía Puyo - Tena)","01°17'29.30''S","77°52'36.80''W","Santa Clara",1080,null,66.666666666666671]
[null,"Cerro Cayambe","00°03'58.00''N","77°59'25.80''W","Cayambe",4216,null,0]
[null,"Cerro Cruz Loma","00°11'17.50''S","78°32'06.70''W","Quito",3990,null,50]
[null,"Cerro Ilumbisi","00°13'40.60''S","78°28'25.70''W","Quito",3040,null,0]
[null,"Cerro La Virgen","00°19'06.90''S","78°11'27.60''W","Quito",4412,null,33.333333333333336]
[null,"Cerro Puengasí","00°14'43.40''S","78°29'59.70''W","Quito",3085,null,0]
[null,"Mojanda","00°04'47.30''N","78°13'43.20''W","Pedro Moncayo",3241,null,0]
[null,"Sector Ferroviaria y la Florestal","00°15'48.00''S","78°30'25.00''W","Quito",3179,null,33.333333333333336]
[null,"Cerro Condorcocha","00°02'19.10''S","78°30'41.00''W","Quito",3586,null,0]
[null,"Cerro San Francisco","00°23'24.89''S","78°37'06.79''W","Mejía",4097,null,0]
[null,"Cerro Tinajero","00°22'53.08''S","78°36'36.19''W","Mejía",4082,null,0]
[null,"Cerro La Viudita","00°24'50.70''S","78°36'27.00''W","Mejía",3751,null,0]
[null,"Cerro Hacda El Rosario","00°26'14.60''S","78°32'12.50''W","Mejía",2981,null,0]
[null,"Cerro Atacazo Alto","00°21'22.20''S","78°37'09.10''W","Quito",4474,null,0]
[null,"Cerro Atacazo Bajo","00°19'05.10''S","78°36'08.10''W","Quito",3893,null,66.666666666666671]
[null,"Cerro Pichincha","00°09'57.03''S","78°31'39.19''W","Quito",3901,null,16.666666666666668]
[null,"Cerro Capáes","02°12'32.40''S","80°51'47.50''W","Santa Elena",102,null,16.666666666666668]
[null,"Cerro Bijagual","00°39'28.70''S","79°17'41.00''W","Sto Domingo",798,null,0]
[null,"Cerro Bomboli","00°14'48.20''S","79°11'31.30''W","Sto Domingo",636,null,0]
[null,"Cerro Chiguilpe Alto","00°17'44.70''S","79°05'12.10''W","Sto Domingo",1172,null,66.666666666666671]
[null,"Cerro Chiguilpe Bajo","00°16'51.30''S","79°05'26.40''W","Sto Domingo",801,null,0]
[null,"Cerro San Luis","00°35'10.70''S","79°19'18.80''W","Sto Domingo",412,null,33.333333333333336]
[null,"Cerro Bermejo","00°08'09.10''N","77°19'39.90''W","Cascales",994,null,0]
[null,"Cerro Reventador","00°02'33.90''S","77°31'44.10''W","Gonzalo Pizarro",1600,null,33.333333333333336]
[null,"Cerro Niton","01°16'41.60''S","78°32'10.20''W","San Pedro de Pelileo",3079,null,0]
[null,"Cerro Pilisurco o Saguatoa","01°09'17.20''S","78°39'58.00''W","Ambato",4154,null,50]
[null,"Cerro Salvación (Lligua)","01°22'44.90''S","78°26'11.80''W","Baños",2696,null,33.333333333333336]
[null,"Llantantoma","01°09'56.40''S","78°37'53.90''W","Ambato",3450,null,0]

{"sheet":"5925-6425 MHz","index":2,"n_rows":143,"n_cols":12,"rows_kept":143,"cut":false,"hidden":false,"merged":[[11,6,12,6],[3,2,3,5],[5,3,5,5],[11,1,12,1],[11,2,12,2],[11,3,12,3],[11,4,12,4],[11,5,12,5]]}
[]
[]
[]
[null,null,"Espectro Radioeléctrico"]
[null,null,"Comparativo anual - Porcentajes de ocupación del espectro radioeléctrico por sitios en la banda 5 925 - 6 425 MHz"]
[]
[]
[null,null,"Fecha de publicación: 20 de enero de 2015"]
[]
[]
[]
[null,{"$f":"'1427-1525 MHz'!B12","v":"Nombre"},"Latitud","Longitud","Cantón","Hsnm(m)","Gráficos",2010,2011,2012,2013,2014]
[null,null,null,null,null,null,null,"Ocupacion (%)","Ocupacion (%)","Ocupacion (%)","Ocupacion (%)","Ocupacion (%)"]
[null,"Barabon","02°53'34.40''S","79°05'15.10''W","Cuenca",3351,null,0,0,0,0,0]
[null,"Cerro Cahuazhun","02°52'33.40''S","78°49'01.60''W","Gualaceo",2999,null,0,0,25,0,0]
[null,"Cerro Cochapamba","02°47'41.10''S","79°25'39.10''W","Cuenca",3714,null,0,0,50,0,0]
[null,"Cerro Guagualzhumi","02°53'32.50''S","78°54'39.60''W","Cuenca",3079,null,12.897192196437345,12.5,100,12.5,12.5]
[null,"Cerro Guallil","03°04'30.90''S","78°48'58.70''W","Sigsig",3284,null,0,0,37.5,25,25]
[null,"Cerro Hito Cruz","02°55'51.50''S","78°59'51.70''W","Cuenca",2847,null,22.570086343765354,25,100,25,37.5]
[null,"Cerro Rayoloma","02°54'13.00''S","78°57'59.20''W","Cuenca",2649,null,0,0,0,0,0]
[null,"Cerro Rumiloma (Amopungo - Señor Pungo)","02°48'19.00''S","78°49'19.30''W","Paute",3175,null,58.080863002674384,62.5,62.5,87.5,87.5]
[null,"Cerro Turi","02°55'22.90''S","79°00'32.80''W","Cuenca",2730,null,0,0,50,0,0]
[null,"Sector Nero - Zhuzhun","02°56'48.30''S","79°03'46.20''W","Cuenca",2932,null,0,0,75,0,0]
[null,"Tipoloma Alto","03°08'13.20''S","79°05'09.70''W","Girón",3177,null,48.364470736640051,50,87.5,87.5,75]
[null,"Tipoloma Bajo","03°07'41.50''S","79°05'17.90''W","Girón",3086,null,0,0,100,0,0]
[null,"Cerro Paredones","02°44'38.30''S","79°26'26.60''W","Cuenca",3668,null,-1.4210854715202004E-14,12.5,12.5,0,0]
[null,"Cuchilla de Paredones","02°44'10.70''S","79°26'43.10''W","Cuenca",3311,null,0,0,100,25,25]
[null,"Bilovan","01°48'09.10''S","79°06'17.20''W","San Miguel",2662,null,0,0,0,0,0]
[null,"Cerro Capadia Alto","01°25'24.20''S","78°57'01.10''W","Guaranda",4460,null,0,0,87.5,0,0]
[null,"Cerro Capadia Chico","01°25'54.10''S","78°56'19.70''W","Guaranda",4384,null,48.364470736640051,50,62.5,75,87.5]
[null,"Cerro de la Cocha","01°50'38.90''S","79°09'52.80''W","San Miguel",2496,null,0,0,0,0,0]
[null,"Cerro Ilambulo","01°42'18.60''S","79°05'32.60''W","San Miguel",3213,null,0,0,0,12.5,0]
[null,"Cerro Pucará","01°39'04.50''S","79°06'10.70''W","Chimbo",3063,null,0,0,25,0,0]
[null,"Cochambamba (Chuchi)","01°41'56.20''S","79°06'20.60''W","San Miguel",3072,null,12.897192196437345,12.5,0,62.5,62.5]
[null,"Cochabamba (Tundaloma)","01°41'35.30''S","79°06'28.20''W","San Miguel",3018,null,12.897192196437345,12.5,0,62.5,62.5]
[null,"Loma de Lourdes","01°42'19.70''S","79°04'49.20''W","San Miguel",3281,null,0,0,25,0,25]
[null,"Loma Susanga","01°40'23.00''S","79°01'08.80''W","Chimbo",2879,null,0,0,0,0,0]
[null,"Padre Urcu","01°42'21.80''S","79°05'45.70''W","San Miguel",3181,null,0,0,25,12.5,0]
[null,"Tiuguinal","01°22'00.30''S","79°00'25.10''W","Guaranda",4126,null,0,0,100,37.5,37.5]
[null,"Biblian (Sagrado Corazón)","02°43'07.70''S","78°52'53.40''W","Biblián",2878,null,0,0,0,0,0]
[null,"Cerro Altar Urcu","02°28'48.90''S","78°59'36.30''W","Cañar",3215,null,96.77243959198762,100,25,100,87.5]
[null,"Cerro Buerán","02°36'31.10''S","78°55'50.90''W","Biblián",3816,null,48.364470736640449,87.5,37.5,75,87.5]
[null,"Cerro Buerán(Tierras Negras)","02°35'59.40''S","78°55'44.40''W","Biblián",3828,null,35.467278540203097,75,100,62.5,75]
[null,"Cerro Carshao","02°26'23.20''S","78°57'03.80''W","Cañar",4017,null,45.183670806237039,50,50,75,87.5]
[null,"Cerro Carshao Bajo","02°26'08.10''S","78°56'52.20''W","Cañar",4003,null,45.183670806237039,50,0,75,87.5]
[null,"Cerro Cojitambo","02°45'40.70''S","78°53'16.40''W","Azoguez",3106,null,0,0,0,0,0]
[null,"Cerro Villaflor","02°49'44.60''S","78°48'12.30''W","Azoguez",3042,null,0,0,0,0,0]
[null,"Cerro Troya","00°44'24.50''N","77°41'48.70''W","Tulcán",3529,null,45.183670806237039,62.5,100,75,75]
[null,"Cerro Troya Bajo","00°44'09.50''N","77°42'22.80''W","Tulcán",3418,null,0,0,37.5,0,0]
[null,"Cerro Cabras","00°28'15.00''N","77°57'50.70''W","Bolívar",2904,null,83.875247395550275,87.5,100,100,100]
[null,"Cerro Chiles Alto","00°35'14.40''N","77°51'04.00''W","Montúfar",3093,null,0,0,87.5,0,0]
[null,"Agua Santa","01°41'46.80''S","78°39'59.80''W","Riobamba",3006,null,0,0,0,0,12.5]
[null,"Cerro Amula Rayoloma","01°41'22.10''S","78°43'45.70''W","Colta",3485,null,0,0,0,0,0]
[null,"Cerro Gatazo Grande","01°39'41.30''S","78°45'00.80''W","Colta",3188,null,0,0,0,0,0]
[null,"Cerro Higno Cacha","01°41'31.90''S","78°42'58.60''W","Riobamba",3567,null,-1.4210854715202004E-14,12.5,0,0,0]
[null,"Cerro La Mira","01°30'32.70''S","78°35'05.20''W","Guano",3881,null,83.875247395549877,100,100,100,37.5]
[null,"Cerro La Mira (Senincahuan)","01°41'31.90''S","78°42'58.60''W","Riobamba",3947,null,-1.4210854715202004E-14,12.5,0,0,0]
[null,"Cerro Achayandi","00°57'07.70''S","78°55'32.90''W","Pujulí",4102,null,-1.4210854715202004E-14,25,0,0,0]
[null,"Cerro Apagua","00°58'32.00''S","78°56'58.00''W","Pujulí",4032,null,0,0,0,0,0]
[null,"Cerro Putzalagua","00°57'56.00''S","78°33'42.70''W","Latacunga",3531,null,9.6728941473280088,12.5,12.5,12.5,12.5]
[null,"Chasqui","00°37'15.30''S","78°35'37.20''W","Latacunga",3532,null,96.77243959198762,100,100,100,100]
[null,"Cerro Chilla","03°29'09.70''S","79°36'04.70''W","Chilla",3450,null,0,0,12.5,12.5,0]
[null,"Cerro Chilola","03°30'00.90''S","79°37'52.50''W","Chilla",3596,null,-1.4210854715202004E-14,37.5,87.5,87.5,50]
[null,"Cerro El Trigal","03°41'23.20''S","79°39'33.90''W","Piñas",1292,null,0,0,0,0,0]
[null,"Cerro Guirillio","03°09'57.50''S","79°36'20.40''W","El Guabo",3192,null,0,0,0,0,0]
[null,"Cerro La Chuva","03°43'03.00''S","79°39'11.30''W","Piñas",1282,null,0,0,0,0,0]
[null,"Cerro Repen","03°33'01.80''S","79°41'02.70''W","Atahualpa",2369,null,25.79438439287469,25,25,25,37.5]
[null,"Cerro Balao (Esmeraldas)","00°57'41.30''N","79°41'25.70''W","Esmeraldas",192,null,0,12.5,12.5,12.5,12.5]
[null,"Cerro Don Juan","00°50'51.20''N","79°53'52.40''W","Atacames",262,null,35.510776658909023,50,50,50,50]
[null,"Cerro Gatazo ","00°56'38.40''N","79°39'29.70''W","Esmeraldas",271,null,74.202353248221868,87.5,100,100,100]
[null,"Cerro La Juanita","00°28'02.20''N","79°34'40.50''W","Quinindé",502,null,70.978055199112532,100,100,100,87.5]
[null,"Cerro Zapallo","00°53'05.30''N","79°31'52.20''W","Esmeraldas",690,null,48.36447073664025,100,100,100,100]
[null,"Cerro Animas","02°28'28.20''S","80°28'03.40''W","Guayaquil",427,null,-1.4210854715202004E-14,25,37.5,37.5,0]
[null,"Cerro Azul","02°09'57.40''S","79°57'24.80''W","Guayaquil",324,null,58.080863002674782,100,100,100,100]
[null,"Cerro Azul Alto (507)","02°09'05.10''S","79°59'01.80''W","Guayaquil",398,null,0,0,0,0,0]
[null,"Cerro Balao","02°45'58.90''S","79°39'52.90''W","Naranjal",490,null,25.79438439287469,25,12.5,12.5,0]
[null,"Cerro Bellavista","02°10'57.10''S","79°54'51.30''W","Guayaquil",100,null,0,0,0,0,0]
[null,"Cerro El Carmen","02°10'47.60''S","79°52'50.00''W","Guayaquil",80,null,0,0,50,50,62.5]
[null,"Cerro González","02°20'57.30''S","80°32'36.70''W","Guayaquil",296,null,96.77243959198762,100,100,100,62.5]
[null,"Cerro Mapasingue","02°08'49.80''S","79°55'40.80''W","Guayaquil",120,null,0,0,0,0,0]
[null,"Cerro San Eduardo","02°10'28.00''S","79°55'07.30''W","Guayaquil",160,null,0,0,0,0,0]
[null,"Cerro Santa Ana","01°55'45.30''S","79°45'50.10''W","San Borondón",300,null,48.407968855346375,50,50,50,50]
[null,"Cerro Tanzarte (Cruz Loma)","02°45'17.90''S","79°23'59.80''W","Naranjal",2894,null,0,0,0,0,0]
[null,"Cerro Blanco","00°12'33.70''N","78°20'16.40''W","Otavalo",3545,null,83.875247395549877,100,100,25,100]
[null,"Cerro Cotacachi","00°19'57.30''N","78°20'24.60''W","Cotacachi",4047,null,77.383153178624866,100,87.5,87.5,100]
[null,"Cerro Calvario (Loja)","04°02'47.00''S","79°39'05.80''W","Paltas",1935,null,0,0,0,0,0]
[null,"Cerro Colambo","04°14'14.60''S","79°23'45.40''W","Gonzanamá",3103,null,9.7163922660343331,12.5,75,87.5,75]
[null,"Cerro Guachaurco","04°02'11.70''S","79°52'19.40''W","Paltas",3102,null,83.875247395549877,100,100,100,100]
[null,"Cerro Guanchuro","04°04'28.80''S","79°38'54.90''W","Paltas",2446,null,0,0,0,0,0]
[null,"Cerro Huanchinchambo","04°01'25.20''S","79°14'45.90''W","Catamayo",2849,null,32.286478609799687,87.5,100,87.5,87.5]
[null,"Cerro Motilon","04°04'57.10''S","79°56'22.20''W","Celica",2663,null,-1.4210854715202004E-14,62.5,0,0,0]
[null,"Cerro Ventanas","04°01'54.10''S","79°14'39.00''W","Catamayo",2870,null,32.286478609799687,87.5,100,100,87.5]
[null,"Cerro Villonaco Alto","03°59'18.70''S","79°16'06.30''W","Catamayo",2952,null,-1.4210854715202004E-14,50,0,12.5,0]
[null,"Pucará","04°05'47.80''S","79°56'17.70''W","Celica",2479,null,0,0,0,0,0]
[null,"Saraguro","03°37'55.20''S","79°14'37.50''W","Saraguro",2740,null,0,0,0,0,0]
[null,"Cerro Corozo","01°29'23.10''S","80°31'27.00''W","Jipijapa",774,null,48.364470736640449,50,62.5,62.5,62.5]
[null,"Cerro de Hojas","01°02'40.10''S","80°32'38.50''W","Portoviejo",674,null,70.978055199112134,100,100,100,87.5]
[null,"Cerro Guayas","00°41'18.10''S","80°05'27.90''W","Chone",128,null,22.613584462471678,50,62.5,62.5,0]
[null,"Cerro Jama 1","00°12'29.40''S","80°16'08.70''W","Jama",93,null,0,0,0,0,0]
[null,"Cerro Jama 2","00°12'58.90''S","80°16'44.50''W","Jama",140,null,0,0,0,0,0]
[null,"Cerro La Crespa","00°20'07.10''S","79°45'34.70''W","Flavio Alfaro",480,null,0,0,50,50,50]
[null,"Cerro Nueve","00°16'05.30''S","80°12'29.90''W","Jama",652,null,0,0,37.5,62.5,37.5]
[null,"Cerro Puerto Alto","00°21'36.30''S","79°52'00.40''W","Flavio Alfaro",410,null,0,0,0,0,0]
[null,"Loma de Viento","00°42'28.10''S","80°24'28.80''W","Sucre",402,null,22.613584462471678,12.5,12.5,50,25]
[null,"Mirador de Bahía de Caráquez","00°36'28.00''S","80°25'34.70''W","Sucre",102,null,-1.4210854715202004E-14,12.5,0,0,0]
[null,"Cerro Bosco","03°00'01.00''S","78°30'34.90''W","Limón Indanza",2404,null,22.570086343765354,25,25,25,37.5]
[null,"Cerro Quilamo","02°18'14.40''S","78°08'26.80''W","Morona",1461,null,48.364470736640051,75,50,50,62.5]
[null,"Cerro Condijua","00°29'01.60''S","77°54'06.90''W","Quijos",2526,null,96.77243959198762,100,100,100,100]
[null,"Cerro Huacamayos","00°37'26.06''S","77°50'28.60''W","Archidona",2300,null,38.691576589312042,37.5,37.5,37.5,37.5]
[null,"Cerro Tres Cruces","00°16'22.60''S","77°45'53.80''W","El Chaco",1980,null,96.77243959198762,100,100,100,100]
[null,"Papallacta","00°22'43.70''S","78°08'48.60''W","Quijos",3373,null,0,0,0,0,0]
[null,"Cerro Lumbaqui Alto","00°00'30.40''N","77°19'15.80''W","Orellana",1088,null,35.510776658909023,75,62.5,62.5,62.5]
[null,"Cerro Lumbaqui Bajo","00°01'47.70''N","77°19'07.90''W","Orellana",998,null,45.183670806237437,50,50,50,50]
[null,"Cerro Abitagua","01°24'53.90''S","78°08'31.00''W","Mera",2250,null,70.978055199112134,100,75,75,50]
[null,"Cerro Calvario","01°31'14.30''S","77°54'28.50''W","Pastaza",1171,null,87.099545444659611,87.5,87.5,87.5,100]
[null,"Santa Clara(Km.35 Vía Puyo - Tena)","01°17'29.30''S","77°52'36.80''W","Santa Clara",1080,null,90.323843493768749,100,100,100,100]
[null,"Cerro Cayambe","00°03'58.00''N","77°59'25.80''W","Cayambe",4216,null,12.897192196437345,12.5,12.5,12.5,12.5]
[null,"Cerro Cruz Loma","00°11'17.50''S","78°32'06.70''W","Quito",3990,null,96.77243959198762,100,100,100,100]
[null,"Cerro Ilumbisi","00°13'40.60''S","78°28'25.70''W","Quito",3040,null,0,0,0,0,0]
[null,"Cerro La Virgen","00°19'06.90''S","78°11'27.60''W","Quito",4412,null,96.77243959198762,100,87.5,87.5,100]
[null,"Cerro Puengasí","00°14'43.40''S","78°29'59.70''W","Quito",3085,null,64.485960982187123,75,62.5,62.5,62.5]
[null,"Mojanda","00°04'47.30''N","78°13'43.20''W","Pedro Moncayo",3241,null,0,0,0,0,0]
[null,"Sector Ferroviaria y la Florestal","00°15'48.00''S","78°30'25.00''W","Quito",3179,null,0,0,0,0,0]
[null,"Cerro Condorcocha","00°02'19.10''S","78°30'41.00''W","Quito",3586,null,22.613584462471678,37.5,25,25,50]
[null,"Cerro San Francisco","00°23'24.89''S","78°37'06.79''W","Mejía",4097,null,0,0,0,0,0]
[null,"Cerro Tinajero","00°22'53.08''S","78°36'36.19''W","Mejía",4082,null,0,0,0,0,0]
[null,"Cerro La Viudita","00°24'50.70''S","78°36'27.00''W","Mejía",3751,null,22.613584462471678,25,25,25,37.5]
[null,"Cerro Hacda El Rosario","00°26'14.60''S","78°32'12.50''W","Mejía",2981,null,0,0,0,0,0]
[null,"Cerro Atacazo Alto","00°21'22.20''S","78°37'09.10''W","Quito",4474,null,0,0,25,25,25]
[null,"Cerro Atacazo Bajo","00°19'05.10''S","78°36'08.10''W","Quito",3893,null,96.77243959198762,100,100,100,75]
[null,"Cerro Pichincha","00°09'57.03''S","78°31'39.19''W","Quito",3901,null,-1.4210854715202004E-14,12.5,0,0,0]
[null,"Cerro Capáes","02°12'32.40''S","80°51'47.50''W","Santa Elena",102,null,48.407968855346375,25,25,25,0]
[null,"Cerro Bijagual","00°39'28.70''S","79°17'41.00''W","Sto Domingo",798,null,0,0,37.5,37.5,37.5]
[null,"Cerro Bomboli","00°14'48.20''S","79°11'31.30''W","Sto Domingo",636,null,61.261662933077794,87.5,100,100,62.5]
[null,"Cerro Chiguilpe Alto","00°17'44.70''S","79°05'12.10''W","Sto Domingo",1172,null,48.407968855346375,50,50,50,50]
[null,"Cerro Chiguilpe Bajo","00°16'51.30''S","79°05'26.40''W","Sto Domingo",801,null,0,0,0,0,0]
[null,"Cerro San Luis","00°35'10.70''S","79°19'18.80''W","Sto Domingo",412,null,0,0,0,0,0]
[null,"Cerro Bermejo","00°08'09.10''N","77°19'39.90''W","Cascales",994,null,0,0,0,0,0]
[null,"Cerro Reventador","00°02'33.90''S","77°31'44.10''W","Gonzalo Pizarro",1600,null,96.77243959198762,100,100,100,100]
[null,"Cerro Niton","01°16'41.60''S","78°32'10.20''W","San Pedro de Pelileo",3079,null,0,0,0,37.5,62.5]
[null,"Cerro Pilisurco o Saguatoa","01°09'17.20''S","78°39'58.00''W","Ambato",4154,null,96.77243959198762,100,100,100,100]
[null,"Cerro Salvación (Lligua)","01°22'44.90''S","78°26'11.80''W","Baños",2696,null,70.978055199112134,75,87.5,87.5,62.5]
[null,"Llantantoma","01°09'56.40''S","78°37'53.90''W","Ambato",3450,null,0,0,0,0,0]

{"sheet":"7125-8500 MHz","index":3,"n_rows":142,"n_cols":12,"rows_kept":142,"cut":false,"hidden":false,"merged":[[10,6,11,6],[2,2,2,5],[10,1,11,1],[10,2,11,2],[10,3,11,3],[10,4,11,4],[10,5,11,5]]}
[]
[]
[null,null,"Espectro Radioeléctrico"]
[]
[null,null,"Comparativo anual - Porcentajes de ocupación del espectro radioeléctrico por sitios en la banda 7 125 - 6 425 MHz"]
[]
[null,null,"Fecha de publicación: 20 de enero de 2015"]
[]
[]
[]
[null,"Nombre","Latitud","Longitud","Cantón","Hsnm(m)","Gráficos",2010,2011,2012,2013,2014]
[null,null,null,null,null,null,null,"Ocupacion (%)","Ocupacion (%)","Ocupacion (%)","Ocupacion (%)","Ocupacion (%)"]
[null,"Barabon","02°53'34.40''S","79°05'15.10''W","Cuenca",3351,null,0,0,0,0,0]
[null,"Cerro Cahuazhun","02°52'33.40''S","78°49'01.60''W","Gualaceo",2999,null,0,0,0,0,0]
[null,"Cerro Cochapamba","02°47'41.10''S","79°25'39.10''W","Cuenca",3714,null,0,0,0,0,0]
[null,"Cerro Guagualzhumi","02°53'32.50''S","78°54'39.60''W","Cuenca",3079,null,0,0,13.78,13.78,33.653846153846153]
[null,"Cerro Guallil","03°04'30.90''S","78°48'58.70''W","Sigsig",3284,null,30.681154127100058,77.564102564102569,95.19,95.19,89.743589743589737]
[null,"Cerro Hito Cruz","02°55'51.50''S","78°59'51.70''W","Cuenca",2847,null,64.679620160701177,99.358974358974365,98.08,98.08,98.717948717948715]
[null,"Cerro Rayoloma","02°54'13.00''S","78°57'59.20''W","Cuenca",2649,null,0,0,0,0,0]
[null,"Cerro Rumiloma (Amopungo - Señor Pungo)","02°48'19.00''S","78°49'19.30''W","Paute",3175,null,36.274653031409684,72.115384615384613,83.33,83.33,87.5]
[null,"Cerro Turi","02°55'22.90''S","79°00'32.80''W","Cuenca",2730,null,2.0452885317750145,20.512820512820515,20.51,20.51,12.820512820512821]
[null,"Sector Nero - Zhuzhun","02°56'48.30''S","79°03'46.20''W","Cuenca",2932,null,8.4222059897735022,25,25,25,29.487179487179485]
[null,"Tipoloma Alto","03°08'13.20''S","79°05'09.70''W","Girón",3177,null,60.567567567567437,92.628205128205124,85.26,85.26,84.615384615384613]
[null,"Tipoloma Bajo","03°07'41.50''S","79°05'17.90''W","Girón",3086,null,2.0452885317750145,10.256410256410257,19.55,19.55,6.7307692307692308]
[null,"Cerro Paredones","02°44'38.30''S","79°26'26.60''W","Cuenca",3668,null,0,10.256410256410257,10.26,10.26,0]
[null,"Cuchilla de Paredones","02°44'10.70''S","79°26'43.10''W","Cuenca",3311,null,0,0,0,0,0]
[null,"Bilovan","01°48'09.10''S","79°06'17.20''W","San Miguel",2662,null,0,0,0,0,0]
[null,"Cerro Capadia Alto","01°25'24.20''S","78°57'01.10''W","Guaranda",4460,null,5.1132213294375504,17.948717948717949,6.73,6.73,6.7307692307692308]
[null,"Cerro Capadia Chico","01°25'54.10''S","78°56'19.70''W","Guaranda",4384,null,52.248356464572595,82.692307692307693,85.58,86.54,85.897435897435898]
[null,"Cerro de la Cocha","01°50'38.90''S","79°09'52.80''W","San Miguel",2496,null,0,0,0,0,0]
[null,"Cerro Ilambulo","01°42'18.60''S","79°05'32.60''W","San Miguel",3213,null,10.226442658875087,26.602564102564102,18.59,18.59,19.871794871794872]
[null,"Cerro Pucará","01°39'04.50''S","79°06'10.70''W","Chimbo",3063,null,0,0,0,0,0]
[null,"Cochambamba (Chuchi)","01°41'56.20''S","79°06'20.60''W","San Miguel",3072,null,4.0905770635500431,16.025641025641026,26.6,26.6,26.602564102564102]
[null,"Cochabamba (Tundaloma)","01°41'35.30''S","79°06'28.20''W","San Miguel",3018,null,4.0905770635500431,16.025641025641026,26.6,26.6,26.602564102564102]
[null,"Loma de Lourdes","01°42'19.70''S","79°04'49.20''W","San Miguel",3281,null,0,0,13.46,13.46,20.512820512820515]
[null,"Loma Susanga","01°40'23.00''S","79°01'08.80''W","Chimbo",2879,null,2.0452885317750145,4.166666666666667,4.17,4.17,0]
[null,"Padre Urcu","01°42'21.80''S","79°05'45.70''W","San Miguel",3181,null,10.226442658875087,26.602564102564102,18.59,18.59,19.871794871794872]
[null,"Tiuguinal","01°22'00.30''S","79°00'25.10''W","Guaranda",4126,null,0,0,0,0,0]
[null,"Biblian (Sagrado Corazón)","02°43'07.70''S","78°52'53.40''W","Biblián",2878,null,4.0905770635500431,23.076923076923077,23.08,23.08,25.641025641025642]
[null,"Cerro Altar Urcu","02°28'48.90''S","78°59'36.30''W","Cañar",3215,null,20.026442658875112,36.858974358974358,34.29,34.29,52.884615384615387]
[null,"Cerro Buerán","02°36'31.10''S","78°55'50.90''W","Biblián",3816,null,77.836742147552897,99.679487179487182,93.27,93.27,99.038461538461533]
[null,"Cerro Buerán(Tierras Negras)","02°35'59.40''S","78°55'44.40''W","Biblián",3828,null,53.801680058436887,87.179487179487182,81.09,81.09,87.5]
[null,"Cerro Carshao","02°26'23.20''S","78°57'03.80''W","Cañar",4017,null,75.141709276844452,97.115384615384613,97.44,97.44,98.07692307692308]
[null,"Cerro Carshao Bajo","02°26'08.10''S","78°56'52.20''W","Cañar",4003,null,75.141709276844452,97.115384615384613,97.44,97.44,98.07692307692308]
[null,"Cerro Cojitambo","02°45'40.70''S","78°53'16.40''W","Azoguez",3106,null,0,0,0,0,0]
[null,"Cerro Villaflor","02°49'44.60''S","78°48'12.30''W","Azoguez",3042,null,17.896274653031412,36.217948717948715,49.36,49.36,44.551282051282051]
[null,"Cerro Troya","00°44'24.50''N","77°41'48.70''W","Tulcán",3529,null,50.560628195763343,82.371794871794876,91.35,92.31,94.871794871794876]
[null,"Cerro Troya Bajo","00°44'09.50''N","77°42'22.80''W","Tulcán",3418,null,2.0452885317750145,15.064102564102564,25.32,13.46,0]
[null,"Cerro Cabras","00°28'15.00''N","77°57'50.70''W","Bolívar",2904,null,26.917457998539078,68.269230769230774,76.599999999999994,76.599999999999994,83.333333333333329]
[null,"Cerro Chiles Alto","00°35'14.40''N","77°51'04.00''W","Montúfar",3093,null,0,0,0,0,0]
[null,"Agua Santa","01°41'46.80''S","78°39'59.80''W","Riobamba",3006,null,25.042074506939443,46.794871794871796,64.099999999999994,64.099999999999994,66.34615384615384]
[null,"Cerro Amula Rayoloma","01°41'22.10''S","78°43'45.70''W","Colta",3485,null,0,0,0,0,0]
[null,"Cerro Gatazo Grande","01°39'41.30''S","78°45'00.80''W","Colta",3188,null,6.1358655953250576,16.666666666666668,16.670000000000002,16.670000000000002,16.666666666666668]
[null,"Cerro Higno Cacha","01°41'31.90''S","78°42'58.60''W","Riobamba",3567,null,4.0905770635500431,19.871794871794872,19.87,19.87,19.871794871794872]
[null,"Cerro La Mira","01°30'32.70''S","78°35'05.20''W","Guano",3881,null,87.027903579254811,100,100,100,100]
[null,"Cerro La Mira (Senincahuan)","01°41'31.90''S","78°42'58.60''W","Riobamba",3947,null,4.0905770635500431,19.871794871794872,19.87,19.87,19.871794871794872]
[null,"Cerro Achayandi","00°57'07.70''S","78°55'32.90''W","Pujulí",4102,null,20.452885317750187,44.871794871794869,47.44,56.73,51.602564102564102]
[null,"Cerro Apagua","00°58'32.00''S","78°56'58.00''W","Pujulí",4032,null,0,0,0,0,0]
[null,"Cerro Putzalagua","00°57'56.00''S","78°33'42.70''W","Latacunga",3531,null,50.247333820306757,88.461538461538467,83.01,83.01,79.166666666666671]
[null,"Chasqui","00°37'15.30''S","78°35'37.20''W","Latacunga",3532,null,61.102337472607609,75.320512820512818,65.06,65.06,83.974358974358978]
[null,"Cerro Chilla","03°29'09.70''S","79°36'04.70''W","Chilla",3450,null,0,0,0,0,0]
[null,"Cerro Chilola","03°30'00.90''S","79°37'52.50''W","Chilla",3596,null,28.075821767713677,75,79.489999999999995,79.489999999999995,89.42307692307692]
[null,"Cerro El Trigal","03°41'23.20''S","79°39'33.90''W","Piñas",1292,null,16.362308254200144,35.256410256410255,31.41,31.41,36.217948717948715]
[null,"Cerro Guirillio","03°09'57.50''S","79°36'20.40''W","El Guabo",3192,null,0,0,0,0,0]
[null,"Cerro La Chuva","03°43'03.00''S","79°39'11.30''W","Piñas",1282,null,16.106647187728271,57.051282051282051,60.58,60.58,63.46153846153846]
[null,"Cerro Repen","03°33'01.80''S","79°41'02.70''W","Atahualpa",2369,null,20.423666910153287,39.102564102564102,39.1,50.32,53.846153846153847]
[null,"Cerro Balao (Esmeraldas)","00°57'41.30''N","79°41'25.70''W","Esmeraldas",192,null,0,0,0,0,0]
[null,"Cerro Don Juan","00°50'51.20''N","79°53'52.40''W","Atacames",262,null,17.457998539079625,25,39.74,39.74,38.782051282051285]
[null,"Cerro Gatazo ","00°56'38.40''N","79°39'29.70''W","Esmeraldas",271,null,49.788897005113135,69.551282051282058,68.27,68.27,61.217948717948715]
[null,"Cerro La Juanita","00°28'02.20''N","79°34'40.50''W","Quinindé",502,null,60.448356464572583,91.666666666666671,94.23,94.23,92.307692307692307]
[null,"Cerro Zapallo","00°53'05.30''N","79°31'52.20''W","Esmeraldas",690,null,82.101387874360768,100,96.79,96.79,95.833333333333329]
[null,"Cerro Animas","02°28'28.20''S","80°28'03.40''W","Guayaquil",427,null,36.344046749452168,70.192307692307693,66.67,66.67,84.615384615384613]
[null,"Cerro Azul","02°09'57.40''S","79°57'24.80''W","Guayaquil",324,null,73.454711468224929,98.397435897435898,98.4,98.72,98.397435897435898]
[null,"Cerro Azul Alto (507)","02°09'05.10''S","79°59'01.80''W","Guayaquil",398,null,45.89992695398093,75.320512820512818,77.56,77.56,87.179487179487182]
[null,"Cerro Balao","02°45'58.90''S","79°39'52.90''W","Naranjal",490,null,79.315193571950317,98.397435897435898,98.08,98.08,96.15384615384616]
[null,"Cerro Bellavista","02°10'57.10''S","79°54'51.30''W","Guayaquil",100,null,4.0905770635500431,13.782051282051283,2.56,2.56,0]
[null,"Cerro El Carmen","02°10'47.60''S","79°52'50.00''W","Guayaquil",80,null,77.198904309715061,99.679487179487182,93.59,93.59,89.42307692307692]
[null,"Cerro González","02°20'57.30''S","80°32'36.70''W","Guayaquil",296,null,57.57121986851714,75.320512820512818,71.150000000000006,71.150000000000006,71.15384615384616]
[null,"Cerro Mapasingue","02°08'49.80''S","79°55'40.80''W","Guayaquil",120,null,5.6975894813732708,33.974358974358971,47.44,47.44,48.07692307692308]
[null,"Cerro San Eduardo","02°10'28.00''S","79°55'07.30''W","Guayaquil",160,null,14.90138787436085,42.307692307692307,18.59,18.59,16.025641025641026]
[null,"Cerro Santa Ana","01°55'45.30''S","79°45'50.10''W","San Borondón",300,null,70.008619430241026,99.038461538461533,95.51,95.51,83.974358974358978]
[null,"Cerro Tanzarte (Cruz Loma)","02°45'17.90''S","79°23'59.80''W","Naranjal",2894,null,1.0226442658875072,7.3717948717948714,14.42,14.42,11.538461538461538]
[null,"Cerro Blanco","00°12'33.70''N","78°20'16.40''W","Otavalo",3545,null,64.516435354273099,98.07692307692308,95.19,55.13,98.07692307692308]
[null,"Cerro Cotacachi","00°19'57.30''N","78°20'24.60''W","Cotacachi",4047,null,38.078889700511404,61.858974358974358,81.09,81.09,83.65384615384616]
[null,"Cerro Calvario (Loja)","04°02'47.00''S","79°39'05.80''W","Paltas",1935,null,5.1132213294375504,11.538461538461538,14.74,14.74,9.9358974358974361]
[null,"Cerro Colambo","04°14'14.60''S","79°23'45.40''W","Gonzanamá",3103,null,38.860482103725346,95.192307692307693,96.79,96.79,96.474358974358978]
[null,"Cerro Guachaurco","04°02'11.70''S","79°52'19.40''W","Paltas",3102,null,73.916654492330224,99.679487179487182,99.68,99.68,100]
[null,"Cerro Guanchuro","04°04'28.80''S","79°38'54.90''W","Paltas",2446,null,0,0,3.85,3.85,3.8461538461538463]
[null,"Cerro Huanchinchambo","04°01'25.20''S","79°14'45.90''W","Catamayo",2849,null,64.445507669832125,94.871794871794876,89.74,89.74,95.512820512820511]
[null,"Cerro Motilon","04°04'57.10''S","79°56'22.20''W","Celica",2663,null,10.226442658875087,29.807692307692307,29.81,29.81,47.756410256410255]
[null,"Cerro Ventanas","04°01'54.10''S","79°14'39.00''W","Catamayo",2870,null,64.445507669832125,94.871794871794876,89.74,89.74,95.512820512820511]
[null,"Cerro Villonaco Alto","03°59'18.70''S","79°16'06.30''W","Catamayo",2952,null,13.294375456537622,22.756410256410255,50.96,50.96,59.294871794871796]
[null,"Pucará","04°05'47.80''S","79°56'17.70''W","Celica",2479,null,7.9433893352812959,25.641025641025642,45.83,45.83,36.858974358974358]
[null,"Saraguro","03°37'55.20''S","79°14'37.50''W","Saraguro",2740,null,4.0905770635500431,9.615384615384615,9.6199999999999992,9.6199999999999992,9.615384615384615]
[null,"Cerro Corozo","01°29'23.10''S","80°31'27.00''W","Jipijapa",774,null,69.408546384222021,97.115384615384613,95.51,95.51,98.397435897435898]
[null,"Cerro de Hojas","01°02'40.10''S","80°32'38.50''W","Portoviejo",674,null,78.605697589481252,100,100,100,100]
[null,"Cerro Guayas","00°41'18.10''S","80°05'27.90''W","Chone",128,null,11.760409057706354,35.256410256410255,41.35,41.35,41.346153846153847]
[null,"Cerro Jama 1","00°12'29.40''S","80°16'08.70''W","Jama",93,null,0,0,8.65,8.65,8.6538461538461533]
[null,"Cerro Jama 2","00°12'58.90''S","80°16'44.50''W","Jama",140,null,10.226442658875087,17.948717948717949,17.95,17.95,17.948717948717949]
[null,"Cerro La Crespa","00°20'07.10''S","79°45'34.70''W","Flavio Alfaro",480,null,32.465449233016741,53.525641025641029,63.46,63.46,66.025641025641022]
[null,"Cerro Nueve","00°16'05.30''S","80°12'29.90''W","Jama",652,null,37.067348429510538,76.282051282051285,87.5,87.5,85.57692307692308]
[null,"Cerro Puerto Alto","00°21'36.30''S","79°52'00.40''W","Flavio Alfaro",410,null,13.294375456537622,51.602564102564102,51.6,51.6,49.679487179487182]
[null,"Loma de Viento","00°42'28.10''S","80°24'28.80''W","Sucre",402,null,48.299999999999798,71.794871794871796,81.73,81.73,77.884615384615387]
[null,"Mirador de Bahía de Caráquez","00°36'28.00''S","80°25'34.70''W","Sucre",102,null,7.1585098612125648,15.384615384615385,15.38,15.38,15.064102564102564]
[null,"Cerro Bosco","03°00'01.00''S","78°30'34.90''W","Limón Indanza",2404,null,61.81154127100065,86.858974358974365,94.23,94.23,79.166666666666671]
[null,"Cerro Quilamo","02°18'14.40''S","78°08'26.80''W","Morona",1461,null,18.115412710007305,33.333333333333336,42.31,42.31,42.307692307692307]
[null,"Cerro Condijua","00°29'01.60''S","77°54'06.90''W","Quijos",2526,null,78.207377647918165,98.397435897435898,98.4,98.4,97.115384615384613]
[null,"Cerro Huacamayos","00°37'26.06''S","77°50'28.60''W","Archidona",2300,null,43.72023374726075,76.92307692307692,79.81,79.81,82.051282051282058]
[null,"Cerro Tres Cruces","00°16'22.60''S","77°45'53.80''W","El Chaco",1980,null,68.957268078889669,89.42307692307692,89.42,89.42,90.064102564102569]
[null,"Papallacta","00°22'43.70''S","78°08'48.60''W","Quijos",3373,null,3.0679327976625217,7.6923076923076925,7.69,7.69,7.6923076923076925]
[null,"Cerro Lumbaqui Alto","00°00'30.40''N","77°19'15.80''W","Orellana",1088,null,60.33601168736304,93.589743589743591,93.27,93.27,98.07692307692308]
[null,"Cerro Lumbaqui Bajo","00°01'47.70''N","77°19'07.90''W","Orellana",998,null,22.859751643535475,48.397435897435898,54.17,54.17,57.692307692307693]
[null,"Cerro Abitagua","01°24'53.90''S","78°08'31.00''W","Mera",2250,null,54.510153396639858,87.5,89.1,89.1,89.42307692307692]
[null,"Cerro Calvario","01°31'14.30''S","77°54'28.50''W","Pastaza",1171,null,66.983199415631844,96.794871794871796,99.68,99.68,99.679487179487182]
[null,"Santa Clara(Km.35 Vía Puyo - Tena)","01°17'29.30''S","77°52'36.80''W","Santa Clara",1080,null,67.88626734842947,94.871794871794876,94.87,94.87,94.230769230769226]
[null,"Cerro Cayambe","00°03'58.00''N","77°59'25.80''W","Cayambe",4216,null,6.1358655953250576,6.4102564102564106,12.5,39.74,53.205128205128204]
[null,"Cerro Cruz Loma","00°11'17.50''S","78°32'06.70''W","Quito",3990,null,65.233382030679195,98.07692307692308,98.4,98.4,98.397435897435898]
[null,"Cerro Ilumbisi","00°13'40.60''S","78°28'25.70''W","Quito",3040,null,79.701972242512767,98.717948717948715,97.12,96.47,97.115384615384613]
[null,"Cerro La Virgen","00°19'06.90''S","78°11'27.60''W","Quito",4412,null,67.292184075967825,86.858974358974365,84.62,84.62,89.743589743589737]
[null,"Cerro Puengasí","00°14'43.40''S","78°29'59.70''W","Quito",3085,null,8.1811541271000721,15.705128205128204,15.38,15.38,15.384615384615385]
[null,"Mojanda","00°04'47.30''N","78°13'43.20''W","Pedro Moncayo",3241,null,4.0905770635500431,16.025641025641026,16.03,16.03,16.025641025641026]
[null,"Sector Ferroviaria y la Florestal","00°15'48.00''S","78°30'25.00''W","Quito",3179,null,53.036230825419935,82.051282051282058,82.05,82.05,85.256410256410263]
[null,"Cerro Condorcocha","00°02'19.10''S","78°30'41.00''W","Quito",3586,null,2.0452885317750145,15.384615384615385,15.38,15.38,38.46153846153846]
[null,"Cerro San Francisco","00°23'24.89''S","78°37'06.79''W","Mejía",4097,null,0,0,0,0,0]
[null,"Cerro Tinajero","00°22'53.08''S","78°36'36.19''W","Mejía",4082,null,0,0,0,0,0]
[null,"Cerro La Viudita","00°24'50.70''S","78°36'27.00''W","Mejía",3751,null,6.1358655953250576,14.102564102564102,12.5,12.5,12.5]
[null,"Cerro Hacda El Rosario","00°26'14.60''S","78°32'12.50''W","Mejía",2981,null,24.397370343316283,60.57692307692308,63.14,63.14,62.5]
[null,"Cerro Atacazo Alto","00°21'22.20''S","78°37'09.10''W","Quito",4474,null,0,0,0,0,0]
[null,"Cerro Atacazo Bajo","00°19'05.10''S","78°36'08.10''W","Quito",3893,null,65.142585829072161,93.910256410256409,96.47,96.47,97.756410256410263]
[null,"Cerro Pichincha","00°09'57.03''S","78°31'39.19''W","Quito",3901,null,30.441563184806498,65.705128205128204,49.68,49.68,68.589743589743591]
[null,"Cerro Capáes","02°12'32.40''S","80°51'47.50''W","Santa Elena",102,null,44.184075967859762,60.256410256410255,61.54,63.46,55.128205128205131]
[null,"Cerro Bijagual","00°39'28.70''S","79°17'41.00''W","Sto Domingo",798,null,26.515704894083271,67.948717948717942,75,75,70.833333333333329]
[null,"Cerro Bomboli","00°14'48.20''S","79°11'31.30''W","Sto Domingo",636,null,84.697589481373214,100,99.68,100,98.397435897435898]
[null,"Cerro Chiguilpe Alto","00°17'44.70''S","79°05'12.10''W","Sto Domingo",1172,null,71.194448502556483,99.679487179487182,99.68,99.68,75.641025641025635]
[null,"Cerro Chiguilpe Bajo","00°16'51.30''S","79°05'26.40''W","Sto Domingo",801,null,13.294375456537622,52.564102564102562,56.41,56.41,56.410256410256409]
[null,"Cerro San Luis","00°35'10.70''S","79°19'18.80''W","Sto Domingo",412,null,41.791453615777812,49.679487179487182,49.68,49.68,49.679487179487182]
[null,"Cerro Bermejo","00°08'09.10''N","77°19'39.90''W","Cascales",994,null,0,0,0,0,0]
[null,"Cerro Reventador","00°02'33.90''S","77°31'44.10''W","Gonzalo Pizarro",1600,null,79.846968590211802,97.435897435897431,96.79,96.79,93.589743589743591]
[null,"Cerro Niton","01°16'41.60''S","78°32'10.20''W","San Pedro de Pelileo",3079,null,9.2037983929875793,18.589743589743591,29.49,29.49,29.807692307692307]
[null,"Cerro Pilisurco o Saguatoa","01°09'17.20''S","78°39'58.00''W","Ambato",4154,null,73.559532505478359,98.397435897435898,96.47,96.47,98.717948717948715]
[null,"Cerro Salvación (Lligua)","01°22'44.90''S","78°26'11.80''W","Baños",2696,null,37.02987582176754,73.397435897435898,73.400000000000006,73.400000000000006,78.525641025641022]
[null,"Llantantoma","01°09'56.40''S","78°37'53.90''W","Ambato",3450,null,0,0,0,0,0]

{"sheet":"14400 - 15350 MHz","index":4,"n_rows":142,"n_cols":12,"rows_kept":142,"cut":false,"hidden":false,"merged":[[10,6,11,6],[2,2,2,5],[10,1,11,1],[10,2,11,2],[10,3,11,3],[10,4,11,4],[10,5,11,5]]}
[]
[]
[null,null,"Espectro Radioeléctrico"]
[]
[null,null,"Comparativo anual - Porcentajes de ocupación del espectro radioeléctrico por sitios en la banda 14 400 - 15 350 MHz"]
[]
[null,null,"Fecha de publicación: 20 de enero de 2015"]
[]
[]
[]
[null,"Nombre","Latitud","Longitud","Cantón","Hsnm(m)","Gráficos",2010,2011,2012,2013,2014]
[null,null,null,null,null,null,null,"Ocupacion (%)","Ocupacion (%)","Ocupacion (%)","Ocupacion (%)","Ocupacion (%)"]
[null,"Barabon","02°53'34.40''S","79°05'15.10''W","Cuenca",3351,null,0,0,34.56,0,0]
[null,"Cerro Cahuazhun","02°52'33.40''S","78°49'01.60''W","Gualaceo",2999,null,0,0,0,0,0]
[null,"Cerro Cochapamba","02°47'41.10''S","79°25'39.10''W","Cuenca",3714,null,0,0,30.41,0,0]
[null,"Cerro Guagualzhumi","02°53'32.50''S","78°54'39.60''W","Cuenca",3079,null,0,0,25.35,12.44,12.44]
[null,"Cerro Guallil","03°04'30.90''S","78°48'58.70''W","Sigsig",3284,null,2.9755579171094553,22.580645161290324,0,22.58,34.56]
[null,"Cerro Hito Cruz","02°55'51.50''S","78°59'51.70''W","Cuenca",2847,null,69.92561105207227,93.548387096774192,0,95.39,95.85]
[null,"Cerro Rayoloma","02°54'13.00''S","78°57'59.20''W","Cuenca",2649,null,5.9511158342189105,11.52073732718894,11.52,11.52,11.52]
[null,"Cerro Rumiloma (Amopungo - Señor Pungo)","02°48'19.00''S","78°49'19.30''W","Paute",3175,null,11.902231668437835,31.336405529953918,22.12,37.79,58.06]
[null,"Cerro Turi","02°55'22.90''S","79°00'32.80''W","Cuenca",2730,null,8.92667375132838,17.511520737327189,11.52,17.510000000000002,23.04]
[null,"Sector Nero - Zhuzhun","02°56'48.30''S","79°03'46.20''W","Cuenca",2932,null,0,5.9907834101382491,4.1500000000000004,5.99,0]
[null,"Tipoloma Alto","03°08'13.20''S","79°05'09.70''W","Girón",3177,null,0,9.67741935483871,0,16.13,10.14]
[null,"Tipoloma Bajo","03°07'41.50''S","79°05'17.90''W","Girón",3086,null,0,0,4.1500000000000004,0,0]
[null,"Cerro Paredones","02°44'38.30''S","79°26'26.60''W","Cuenca",3668,null,0,0,0,0,0]
[null,"Cuchilla de Paredones","02°44'10.70''S","79°26'43.10''W","Cuenca",3311,null,0,0,82.03,0,0]
[null,"Bilovan","01°48'09.10''S","79°06'17.20''W","San Miguel",2662,null,0,0,75.12,0,0]
[null,"Cerro Capadia Alto","01°25'24.20''S","78°57'01.10''W","Guaranda",4460,null,0,0,0,0,0]
[null,"Cerro Capadia Chico","01°25'54.10''S","78°56'19.70''W","Guaranda",4384,null,0,0,22.12,0,0]
[null,"Cerro de la Cocha","01°50'38.90''S","79°09'52.80''W","San Miguel",2496,null,0,0,0,0,0]
[null,"Cerro Ilambulo","01°42'18.60''S","79°05'32.60''W","San Miguel",3213,null,0,0,93.09,0,0]
[null,"Cerro Pucará","01°39'04.50''S","79°06'10.70''W","Chimbo",3063,null,0,0,25.35,0,0]
[null,"Cochambamba (Chuchi)","01°41'56.20''S","79°06'20.60''W","San Miguel",3072,null,0,0,0,0,0]
[null,"Cochabamba (Tundaloma)","01°41'35.30''S","79°06'28.20''W","San Miguel",3018,null,0,0,0,0,0]
[null,"Loma de Lourdes","01°42'19.70''S","79°04'49.20''W","San Miguel",3281,null,0,0,5.99,0,0]
[null,"Loma Susanga","01°40'23.00''S","79°01'08.80''W","Chimbo",2879,null,0,0,41.94,0,0]
[null,"Padre Urcu","01°42'21.80''S","79°05'45.70''W","San Miguel",3181,null,0,0,0,0,0]
[null,"Tiuguinal","01°22'00.30''S","79°00'25.10''W","Guaranda",4126,null,0,0,16.13,0,0]
[null,"Biblian (Sagrado Corazón)","02°43'07.70''S","78°52'53.40''W","Biblián",2878,null,10.414452709883108,19.35483870967742,49.77,19.350000000000001,24.42]
[null,"Cerro Altar Urcu","02°28'48.90''S","78°59'36.30''W","Cañar",3215,null,0,0,36.409999999999997,0,0]
[null,"Cerro Buerán","02°36'31.10''S","78°55'50.90''W","Biblián",3816,null,0,10.138248847926267,11.52,10.14,11.52]
[null,"Cerro Buerán(Tierras Negras)","02°35'59.40''S","78°55'44.40''W","Biblián",3828,null,0,0,58.06,0,11.52]
[null,"Cerro Carshao","02°26'23.20''S","78°57'03.80''W","Cañar",4017,null,5.9511158342189105,7.3732718894009217,8.76,7.37,7.37]
[null,"Cerro Carshao Bajo","02°26'08.10''S","78°56'52.20''W","Cañar",4003,null,5.9511158342189105,7.3732718894009217,9.68,7.37,7.37]
[null,"Cerro Cojitambo","02°45'40.70''S","78°53'16.40''W","Azoguez",3106,null,0,0,0,0,0]
[null,"Cerro Villaflor","02°49'44.60''S","78°48'12.30''W","Azoguez",3042,null,13.390010626992563,26.728110599078342,0,26.73,26.73]
[null,"Cerro Troya","00°44'24.50''N","77°41'48.70''W","Tulcán",3529,null,46.121147715196599,67.741935483870961,0,63.59,63.59]
[null,"Cerro Troya Bajo","00°44'09.50''N","77°42'22.80''W","Tulcán",3418,null,0,0,19.350000000000001,0,0]
[null,"Cerro Cabras","00°28'15.00''N","77°57'50.70''W","Bolívar",2904,null,13.390010626992563,34.10138248847926,39.630000000000003,47.47,55.3]
[null,"Cerro Chiles Alto","00°35'14.40''N","77°51'04.00''W","Montúfar",3093,null,0,0,14.29,0,0]
[null,"Agua Santa","01°41'46.80''S","78°39'59.80''W","Riobamba",3006,null,29.755579171094581,61.751152073732719,0,58.99,76.040000000000006]
[null,"Cerro Amula Rayoloma","01°41'22.10''S","78°43'45.70''W","Colta",3485,null,0,0,0,0,0]
[null,"Cerro Gatazo Grande","01°39'41.30''S","78°45'00.80''W","Colta",3188,null,0,0,0,0,0]
[null,"Cerro Higno Cacha","01°41'31.90''S","78°42'58.60''W","Riobamba",3567,null,0,0,0,0,0]
[null,"Cerro La Mira","01°30'32.70''S","78°35'05.20''W","Guano",3881,null,4.4633368756641829,16.589861751152075,23.041474654377879,23.04,12.9]
[null,"Cerro La Mira (Senincahuan)","01°41'31.90''S","78°42'58.60''W","Riobamba",3947,null,0,0,0,0,0]
[null,"Cerro Achayandi","00°57'07.70''S","78°55'32.90''W","Pujulí",4102,null,0,0,0,0,0]
[null,"Cerro Apagua","00°58'32.00''S","78°56'58.00''W","Pujulí",4032,null,0,0,0,0,0]
[null,"Cerro Putzalagua","00°57'56.00''S","78°33'42.70''W","Latacunga",3531,null,5.9511158342189105,11.52073732718894,23.041474654377879,23.04,35.479999999999997]
[null,"Chasqui","00°37'15.30''S","78°35'37.20''W","Latacunga",3532,null,0,0,0,11.52,11.52]
[null,"Cerro Chilla","03°29'09.70''S","79°36'04.70''W","Chilla",3450,null,0,0,0,0,0]
[null,"Cerro Chilola","03°30'00.90''S","79°37'52.50''W","Chilla",3596,null,0,0,0,0,0]
[null,"Cerro El Trigal","03°41'23.20''S","79°39'33.90''W","Piñas",1292,null,8.92667375132838,17.972350230414747,23.041474654377879,26.27,26.27]
[null,"Cerro Guirillio","03°09'57.50''S","79°36'20.40''W","El Guabo",3192,null,0,0,0,0,0]
[null,"Cerro La Chuva","03°43'03.00''S","79°39'11.30''W","Piñas",1282,null,5.9511158342189105,11.52073732718894,11.52073732718894,11.52,11.52]
[null,"Cerro Repen","03°33'01.80''S","79°41'02.70''W","Atahualpa",2369,null,0,0,0,0,0]
[null,"Cerro Balao (Esmeraldas)","00°57'41.30''N","79°41'25.70''W","Esmeraldas",192,null,0,0,0,0,0]
[null,"Cerro Don Juan","00°50'51.20''N","79°53'52.40''W","Atacames",262,null,11.530286928799143,14.746543778801843,21.198156682027651,21.2,21.2]
[null,"Cerro Gatazo ","00°56'38.40''N","79°39'29.70''W","Esmeraldas",271,null,46.121147715196599,66.820276497695858,66.820276497695858,66.819999999999993,80.650000000000006]
[null,"Cerro La Juanita","00°28'02.20''N","79°34'40.50''W","Quinindé",502,null,0,0,0,0,0]
[null,"Cerro Zapallo","00°53'05.30''N","79°31'52.20''W","Esmeraldas",690,null,0,0,0,0,0]
[null,"Cerro Animas","02°28'28.20''S","80°28'03.40''W","Guayaquil",427,null,1.4877789585547276,4.6082949308755756,2.7649769585253456,2.76,14.29]
[null,"Cerro Azul","02°09'57.40''S","79°57'24.80''W","Guayaquil",324,null,53.560042507970245,82.94930875576037,84.331797235023046,86.18,95.39]
[null,"Cerro Azul Alto (507)","02°09'05.10''S","79°59'01.80''W","Guayaquil",398,null,5.9511158342189105,6.9124423963133639,6.9124423963133639,6.91,6.91]
[null,"Cerro Balao","02°45'58.90''S","79°39'52.90''W","Naranjal",490,null,0,0,0,0,0]
[null,"Cerro Bellavista","02°10'57.10''S","79°54'51.30''W","Guayaquil",100,null,2.9755579171094553,5.9907834101382491,17.972350230414747,23.5,28.57]
[null,"Cerro El Carmen","02°10'47.60''S","79°52'50.00''W","Guayaquil",80,null,83.475026567481407,100,99.078341013824883,99.08,100]
[null,"Cerro González","02°20'57.30''S","80°32'36.70''W","Guayaquil",296,null,1.4877789585547276,6.9124423963133639,4.1474654377880187,4.1500000000000004,4.1500000000000004]
[null,"Cerro Mapasingue","02°08'49.80''S","79°55'40.80''W","Guayaquil",120,null,68.437832093517528,91.244239631336399,88.47926267281106,88.48,88.48]
[null,"Cerro San Eduardo","02°10'28.00''S","79°55'07.30''W","Guayaquil",160,null,32.624867162592992,58.064516129032256,56.682027649769587,56.68,60.83]
[null,"Cerro Santa Ana","01°55'45.30''S","79°45'50.10''W","San Borondón",300,null,1.4877789585547276,15.668202764976959,23.041474654377879,33.64,40.549999999999997]
[null,"Cerro Tanzarte (Cruz Loma)","02°45'17.90''S","79°23'59.80''W","Naranjal",2894,null,0,0,0,0,0]
[null,"Cerro Blanco","00°12'33.70''N","78°20'16.40''W","Otavalo",3545,null,13.390010626992563,25.345622119815669,31.336405529953918,11.06,25.81]
[null,"Cerro Cotacachi","00°19'57.30''N","78°20'24.60''W","Cotacachi",4047,null,2.9755579171094553,20.737327188940093,20.737327188940093,20.74,39.630000000000003]
[null,"Cerro Calvario (Loja)","04°02'47.00''S","79°39'05.80''W","Paltas",1935,null,2.9755579171094553,5.9907834101382491,5.9907834101382491,5.99,5.99]
[null,"Cerro Colambo","04°14'14.60''S","79°23'45.40''W","Gonzanamá",3103,null,0,0,3.6866359447004609,3.69,3.69]
[null,"Cerro Guachaurco","04°02'11.70''S","79°52'19.40''W","Paltas",3102,null,1.4877789585547276,11.52073732718894,11.52073732718894,11.52,11.52]
[null,"Cerro Guanchuro","04°04'28.80''S","79°38'54.90''W","Paltas",2446,null,0,0,0,0,0]
[null,"Cerro Huanchinchambo","04°01'25.20''S","79°14'45.90''W","Catamayo",2849,null,42.773645058448459,74.654377880184327,82.488479262672811,82.49,82.49]
[null,"Cerro Motilon","04°04'57.10''S","79°56'22.20''W","Celica",2663,null,0,0,0,0,0]
[null,"Cerro Ventanas","04°01'54.10''S","79°14'39.00''W","Catamayo",2870,null,42.773645058448459,74.654377880184327,82.488479262672811,82.49,82.49]
[null,"Cerro Villonaco Alto","03°59'18.70''S","79°16'06.30''W","Catamayo",2952,null,0,0,0,0,11.52]
[null,"Pucará","04°05'47.80''S","79°56'17.70''W","Celica",2479,null,1.4877789585547276,11.52073732718894,11.52073732718894,11.52,23.04]
[null,"Saraguro","03°37'55.20''S","79°14'37.50''W","Saraguro",2740,null,0,0,0,0,0]
[null,"Cerro Corozo","01°29'23.10''S","80°31'27.00''W","Jipijapa",774,null,0,0,6.4516129032258061,6.45,6.45]
[null,"Cerro de Hojas","01°02'40.10''S","80°32'38.50''W","Portoviejo",674,null,8.92667375132838,21.198156682027651,24.88479262672811,24.88,53]
[null,"Cerro Guayas","00°41'18.10''S","80°05'27.90''W","Chone",128,null,23.804463336875671,41.474654377880185,41.474654377880185,41.47,41.47]
[null,"Cerro Jama 1","00°12'29.40''S","80°16'08.70''W","Jama",93,null,0,0,0,0,0]
[null,"Cerro Jama 2","00°12'58.90''S","80°16'44.50''W","Jama",140,null,0,0,0,0,0]
[null,"Cerro La Crespa","00°20'07.10''S","79°45'34.70''W","Flavio Alfaro",480,null,0,0,0,0,0]
[null,"Cerro Nueve","00°16'05.30''S","80°12'29.90''W","Jama",652,null,0,0,0,0,0]
[null,"Cerro Puerto Alto","00°21'36.30''S","79°52'00.40''W","Flavio Alfaro",410,null,5.9511158342189105,11.52073732718894,11.52073732718894,11.52,11.52]
[null,"Loma de Viento","00°42'28.10''S","80°24'28.80''W","Sucre",402,null,0,0,0,0,0]
[null,"Mirador de Bahía de Caráquez","00°36'28.00''S","80°25'34.70''W","Sucre",102,null,5.9511158342189105,34.562211981566819,34.562211981566819,34.56,41.47]
[null,"Cerro Bosco","03°00'01.00''S","78°30'34.90''W","Limón Indanza",2404,null,0,0,0,0,0]
[null,"Cerro Quilamo","02°18'14.40''S","78°08'26.80''W","Morona",1461,null,11.902231668437835,18.894009216589861,30.414746543778801,30.41,18.89]
[null,"Cerro Condijua","00°29'01.60''S","77°54'06.90''W","Quijos",2526,null,1.4877789585547276,11.52073732718894,25.345622119815669,25.35,18.43]
[null,"Cerro Huacamayos","00°37'26.06''S","77°50'28.60''W","Archidona",2300,null,0,0,0,0,0]
[null,"Cerro Tres Cruces","00°16'22.60''S","77°45'53.80''W","El Chaco",1980,null,0,0,0,0,0]
[null,"Papallacta","00°22'43.70''S","78°08'48.60''W","Quijos",3373,null,0,11.52073732718894,11.52073732718894,11.52,11.52]
[null,"Cerro Lumbaqui Alto","00°00'30.40''N","77°19'15.80''W","Orellana",1088,null,4.4633368756641829,22.119815668202765,22.119815668202765,22.12,27.19]
[null,"Cerro Lumbaqui Bajo","00°01'47.70''N","77°19'07.90''W","Orellana",998,null,0,0,0,11.52,11.52]
[null,"Cerro Abitagua","01°24'53.90''S","78°08'31.00''W","Mera",2250,null,1.4877789585547276,4.1474654377880187,4.1474654377880187,4.1500000000000004,0]
[null,"Cerro Calvario","01°31'14.30''S","77°54'28.50''W","Pastaza",1171,null,0,0,0,0,0]
[null,"Santa Clara(Km.35 Vía Puyo - Tena)","01°17'29.30''S","77°52'36.80''W","Santa Clara",1080,null,1.4877789585547276,4.1474654377880187,4.1474654377880187,4.1500000000000004,15.67]
[null,"Cerro Cayambe","00°03'58.00''N","77°59'25.80''W","Cayambe",4216,null,0,0,0,0,0]
[null,"Cerro Cruz Loma","00°11'17.50''S","78°32'06.70''W","Quito",3990,null,22.316684378320929,58.986175115207374,82.027649769585253,82.03,94.47]
[null,"Cerro Ilumbisi","00°13'40.60''S","78°28'25.70''W","Quito",3040,null,35.706695005313492,74.654377880184327,75.115207373271886,72.349999999999994,72.349999999999994]
[null,"Cerro La Virgen","00°19'06.90''S","78°11'27.60''W","Quito",4412,null,0,0,0,0,0]
[null,"Cerro Puengasí","00°14'43.40''S","78°29'59.70''W","Quito",3085,null,4.4633368756641829,11.52073732718894,22.119815668202765,22.12,22.12]
[null,"Mojanda","00°04'47.30''N","78°13'43.20''W","Pedro Moncayo",3241,null,0,0,0,0,0]
[null,"Sector Ferroviaria y la Florestal","00°15'48.00''S","78°30'25.00''W","Quito",3179,null,75.876726886291181,93.087557603686633,93.087557603686633,93.09,97.7]
[null,"Cerro Condorcocha","00°02'19.10''S","78°30'41.00''W","Quito",3586,null,7.4388947927736382,13.824884792626728,25.345622119815669,25.35,32.26]
[null,"Cerro San Francisco","00°23'24.89''S","78°37'06.79''W","Mejía",4097,null,0,0,0,0,0]
[null,"Cerro Tinajero","00°22'53.08''S","78°36'36.19''W","Mejía",4082,null,0,0,0,0,0]
[null,"Cerro La Viudita","00°24'50.70''S","78°36'27.00''W","Mejía",3751,null,0,0,5.9907834101382491,5.99,5.99]
[null,"Cerro Hacda El Rosario","00°26'14.60''S","78°32'12.50''W","Mejía",2981,null,25.292242295430398,51.152073732718897,41.935483870967744,41.94,52.07]
[null,"Cerro Atacazo Alto","00°21'22.20''S","78°37'09.10''W","Quito",4474,null,0,0,0,0,0]
[null,"Cerro Atacazo Bajo","00°19'05.10''S","78°36'08.10''W","Quito",3893,null,8.92667375132838,16.129032258064516,16.129032258064516,16.13,27.19]
[null,"Cerro Pichincha","00°09'57.03''S","78°31'39.19''W","Quito",3901,null,27.523910733262483,49.769585253456221,49.769585253456221,49.77,81.11]
[null,"Cerro Capáes","02°12'32.40''S","80°51'47.50''W","Santa Elena",102,null,17.853347502656746,39.170506912442399,36.405529953917053,36.409999999999997,40.549999999999997]
[null,"Cerro Bijagual","00°39'28.70''S","79°17'41.00''W","Sto Domingo",798,null,0,0,11.52073732718894,11.52,11.52]
[null,"Cerro Bomboli","00°14'48.20''S","79°11'31.30''W","Sto Domingo",636,null,35.706695005313492,54.377880184331801,58.064516129032256,58.06,63.59]
[null,"Cerro Chiguilpe Alto","00°17'44.70''S","79°05'12.10''W","Sto Domingo",1172,null,4.4633368756641829,8.7557603686635943,8.7557603686635943,8.76,4.1500000000000004]
[null,"Cerro Chiguilpe Bajo","00°16'51.30''S","79°05'26.40''W","Sto Domingo",801,null,2.9755579171094553,9.67741935483871,9.67741935483871,9.68,9.68]
[null,"Cerro San Luis","00°35'10.70''S","79°19'18.80''W","Sto Domingo",412,null,0,0,0,0,0]
[null,"Cerro Bermejo","00°08'09.10''N","77°19'39.90''W","Cascales",994,null,0,0,0,0,0]
[null,"Cerro Reventador","00°02'33.90''S","77°31'44.10''W","Gonzalo Pizarro",1600,null,0,0,0,0,0]
[null,"Cerro Niton","01°16'41.60''S","78°32'10.20''W","San Pedro de Pelileo",3079,null,8.92667375132838,19.35483870967742,19.35483870967742,19.350000000000001,19.350000000000001]
[null,"Cerro Pilisurco o Saguatoa","01°09'17.20''S","78°39'58.00''W","Ambato",4154,null,24.309245483528159,42.396313364055302,39.631336405529957,39.630000000000003,61.75]
[null,"Cerro Salvación (Lligua)","01°22'44.90''S","78°26'11.80''W","Baños",2696,null,2.9755579171094553,11.059907834101383,14.285714285714286,14.29,10.14]
[null,"Llantantoma","01°09'56.40''S","78°37'53.90''W","Ambato",3450,null,0,0,0,0,0]

{"sheet":"Comparativo","index":5,"n_rows":143,"n_cols":12,"rows_kept":143,"cut":false,"hidden":false,"merged":[[11,6,12,6],[10,7,10,11],[2,2,2,5],[4,3,4,5],[11,1,12,1],[11,2,12,2],[11,3,12,3],[11,4,12,4],[11,5,12,5]]}
[]
[]
[null,null,"Espectro Radioeléctrico"]
[null,null,"Comparativo anual - Porcentajes de ocupación del espectro radioeléctrico por sitios"]
[]
[]
[null,null,"Fecha de publicación: 20 de enero de 2015"]
[]
[]
[]
[null,null,null,null,null,null,null,2014]
[null,"Nombre","Latitud","Longitud","Cantón","Hsnm(m)","Gráficos","1427 - 1525 MHz","3800 - 4200 MHz","5925 - 6425 MHz","7125 - 8500 MHz","14400 - 15350 MHz"]
[null,null,null,null,null,null,null,"Ocupacion (%)","Ocupacion (%)","Ocupacion (%)","Ocupacion (%)","Ocupacion (%)"]
[null,"Barabon","02°53'34.40''S","79°05'15.10''W","Cuenca",3351,null,{"$f":"'1427-1525 MHz'!L14","v":0},{"$f":"'3800-4200 MHz'!H14","v":0},{"$f":"'5925-6425 MHz'!L14","v":0},{"$f":"'7125-8500 MHz'!L13","v":0},{"$f":"'14400 - 15350 MHz'!L13","v":0}]
[null,"Cerro Cahuazhun","02°52'33.40''S","78°49'01.60''W","Gualaceo",2999,null,{"$f":"'1427-1525 MHz'!L15","v":0},{"$f":"'3800-4200 MHz'!H15","v":0},{"$f":"'5925-6425 MHz'!L15","v":0},{"$f":"'7125-8500 MHz'!L14","v":0},{"$f":"'14400 - 15350 MHz'!L14","v":0}]
[null,"Cerro Cochapamba","02°47'41.10''S","79°25'39.10''W","Cuenca",3714,null,{"$f":"'1427-1525 MHz'!L16","v":0},{"$f":"'3800-4200 MHz'!H16","v":0},{"$f":"'5925-6425 MHz'!L16","v":0},{"$f":"'7125-8500 MHz'!L15","v":0},{"$f":"'14400 - 15350 MHz'!L15","v":0}]
[null,"Cerro Guagualzhumi","02°53'32.50''S","78°54'39.60''W","Cuenca",3079,null,{"$f":"'1427-1525 MHz'!L17","v":0},{"$f":"'3800-4200 MHz'!H17","v":0},{"$f":"'5925-6425 MHz'!L17","v":12.5},{"$f":"'7125-8500 MHz'!L16","v":33.653846153846153},{"$f":"'14400 - 15350 MHz'!L16","v":12.44}]
[null,"Cerro Guallil","03°04'30.90''S","78°48'58.70''W","Sigsig",3284,null,{"$f":"'1427-1525 MHz'!L18","v":32.142857142857146},{"$f":"'3800-4200 MHz'!H18","v":0},{"$f":"'5925-6425 MHz'!L18","v":25},{"$f":"'7125-8500 MHz'!L17","v":89.743589743589737},{"$f":"'14400 - 15350 MHz'!L17","v":34.56}]
[null,"Cerro Hito Cruz","02°55'51.50''S","78°59'51.70''W","Cuenca",2847,null,{"$f":"'1427-1525 MHz'!L19","v":23.4375},{"$f":"'3800-4200 MHz'!H19","v":33.333333333333336},{"$f":"'5925-6425 MHz'!L19","v":37.5},{"$f":"'7125-8500 MHz'!L18","v":98.717948717948715},{"$f":"'14400 - 15350 MHz'!L18","v":95.85}]
[null,"Cerro Rayoloma","02°54'13.00''S","78°57'59.20''W","Cuenca",2649,null,{"$f":"'1427-1525 MHz'!L20","v":16.294642857142858},{"$f":"'3800-4200 MHz'!H20","v":0},{"$f":"'5925-6425 MHz'!L20","v":0},{"$f":"'7125-8500 MHz'!L19","v":0},{"$f":"'14400 - 15350 MHz'!L19","v":11.52}]
[null,"Cerro Rumiloma (Amopungo - Señor Pungo)","02°48'19.00''S","78°49'19.30''W","Paute",3175,null,{"$f":"'1427-1525 MHz'!L21","v":17.410714285714285},{"$f":"'3800-4200 MHz'!H21","v":100},{"$f":"'5925-6425 MHz'!L21","v":87.5},{"$f":"'7125-8500 MHz'!L20","v":87.5},{"$f":"'14400 - 15350 MHz'!L20","v":58.06}]
[null,"Cerro Turi","02°55'22.90''S","79°00'32.80''W","Cuenca",2730,null,{"$f":"'1427-1525 MHz'!L22","v":0},{"$f":"'3800-4200 MHz'!H22","v":0},{"$f":"'5925-6425 MHz'!L22","v":0},{"$f":"'7125-8500 MHz'!L21","v":12.820512820512821},{"$f":"'14400 - 15350 MHz'!L21","v":23.04}]
[null,"Sector Nero - Zhuzhun","02°56'48.30''S","79°03'46.20''W","Cuenca",2932,null,{"$f":"'1427-1525 MHz'!L23","v":0},{"$f":"'3800-4200 MHz'!H23","v":0},{"$f":"'5925-6425 MHz'!L23","v":0},{"$f":"'7125-8500 MHz'!L22","v":29.487179487179485},{"$f":"'14400 - 15350 MHz'!L22","v":0}]
[null,"Tipoloma Alto","03°08'13.20''S","79°05'09.70''W","Girón",3177,null,{"$f":"'1427-1525 MHz'!L24","v":51.339285714285715},{"$f":"'3800-4200 MHz'!H24","v":100},{"$f":"'5925-6425 MHz'!L24","v":75},{"$f":"'7125-8500 MHz'!L23","v":84.615384615384613},{"$f":"'14400 - 15350 MHz'!L23","v":10.14}]
[null,"Tipoloma Bajo","03°07'41.50''S","79°05'17.90''W","Girón",3086,null,{"$f":"'1427-1525 MHz'!L25","v":0},{"$f":"'3800-4200 MHz'!H25","v":0},{"$f":"'5925-6425 MHz'!L25","v":0},{"$f":"'7125-8500 MHz'!L24","v":6.7307692307692308},{"$f":"'14400 - 15350 MHz'!L24","v":0}]
[null,"Cerro Paredones","02°44'38.30''S","79°26'26.60''W","Cuenca",3668,null,{"$f":"'1427-1525 MHz'!L26","v":0},{"$f":"'3800-4200 MHz'!H26","v":0},{"$f":"'5925-6425 MHz'!L26","v":0},{"$f":"'7125-8500 MHz'!L25","v":0},{"$f":"'14400 - 15350 MHz'!L25","v":0}]
[null,"Cuchilla de Paredones","02°44'10.70''S","79°26'43.10''W","Cuenca",3311,null,{"$f":"'1427-1525 MHz'!L27","v":0},{"$f":"'3800-4200 MHz'!H27","v":0},{"$f":"'5925-6425 MHz'!L27","v":25},{"$f":"'7125-8500 MHz'!L26","v":0},{"$f":"'14400 - 15350 MHz'!L26","v":0}]
[null,"Bilovan","01°48'09.10''S","79°06'17.20''W","San Miguel",2662,null,{"$f":"'1427-1525 MHz'!L28","v":26.339285714285715},{"$f":"'3800-4200 MHz'!H28","v":0},{"$f":"'5925-6425 MHz'!L28","v":0},{"$f":"'7125-8500 MHz'!L27","v":0},{"$f":"'14400 - 15350 MHz'!L27","v":0}]
[null,"Cerro Capadia Alto","01°25'24.20''S","78°57'01.10''W","Guaranda",4460,null,{"$f":"'1427-1525 MHz'!L29","v":0},{"$f":"'3800-4200 MHz'!H29","v":0},{"$f":"'5925-6425 MHz'!L29","v":0},{"$f":"'7125-8500 MHz'!L28","v":6.7307692307692308},{"$f":"'14400 - 15350 MHz'!L28","v":0}]
[null,"Cerro Capadia Chico","01°25'54.10''S","78°56'19.70''W","Guaranda",4384,null,{"$f":"'1427-1525 MHz'!L30","v":0},{"$f":"'3800-4200 MHz'!H30","v":66.666666666666671},{"$f":"'5925-6425 MHz'!L30","v":87.5},{"$f":"'7125-8500 MHz'!L29","v":85.897435897435898},{"$f":"'14400 - 15350 MHz'!L29","v":0}]
[null,"Cerro de la Cocha","01°50'38.90''S","79°09'52.80''W","San Miguel",2496,null,{"$f":"'1427-1525 MHz'!L31","v":0},{"$f":"'3800-4200 MHz'!H31","v":0},{"$f":"'5925-6425 MHz'!L31","v":0},{"$f":"'7125-8500 MHz'!L30","v":0},{"$f":"'14400 - 15350 MHz'!L30","v":0}]
[null,"Cerro Ilambulo","01°42'18.60''S","79°05'32.60''W","San Miguel",3213,null,{"$f":"'1427-1525 MHz'!L32","v":16.294642857142858},{"$f":"'3800-4200 MHz'!H32","v":0},{"$f":"'5925-6425 MHz'!L32","v":0},{"$f":"'7125-8500 MHz'!L31","v":19.871794871794872},{"$f":"'14400 - 15350 MHz'!L31","v":0}]
[null,"Cerro Pucará","01°39'04.50''S","79°06'10.70''W","Chimbo",3063,null,{"$f":"'1427-1525 MHz'!L33","v":0},{"$f":"'3800-4200 MHz'!H33","v":0},{"$f":"'5925-6425 MHz'!L33","v":0},{"$f":"'7125-8500 MHz'!L32","v":0},{"$f":"'14400 - 15350 MHz'!L32","v":0}]
[null,"Cochambamba (Chuchi)","01°41'56.20''S","79°06'20.60''W","San Miguel",3072,null,{"$f":"'1427-1525 MHz'!L34","v":0},{"$f":"'3800-4200 MHz'!H34","v":0},{"$f":"'5925-6425 MHz'!L34","v":62.5},{"$f":"'7125-8500 MHz'!L33","v":26.602564102564102},{"$f":"'14400 - 15350 MHz'!L33","v":0}]
[null,"Cochabamba (Tundaloma)","01°41'35.30''S","79°06'28.20''W","San Miguel",3018,null,{"$f":"'1427-1525 MHz'!L35","v":0},{"$f":"'3800-4200 MHz'!H35","v":0},{"$f":"'5925-6425 MHz'!L35","v":62.5},{"$f":"'7125-8500 MHz'!L34","v":26.602564102564102},{"$f":"'14400 - 15350 MHz'!L34","v":0}]
[null,"Loma de Lourdes","01°42'19.70''S","79°04'49.20''W","San Miguel",3281,null,{"$f":"'1427-1525 MHz'!L36","v":42.857142857142854},{"$f":"'3800-4200 MHz'!H36","v":0},{"$f":"'5925-6425 MHz'!L36","v":25},{"$f":"'7125-8500 MHz'!L35","v":20.512820512820515},{"$f":"'14400 - 15350 MHz'!L35","v":0}]
[null,"Loma Susanga","01°40'23.00''S","79°01'08.80''W","Chimbo",2879,null,{"$f":"'1427-1525 MHz'!L37","v":32.142857142857146},{"$f":"'3800-4200 MHz'!H37","v":0},{"$f":"'5925-6425 MHz'!L37","v":0},{"$f":"'7125-8500 MHz'!L36","v":0},{"$f":"'14400 - 15350 MHz'!L36","v":0}]
[null,"Padre Urcu","01°42'21.80''S","79°05'45.70''W","San Miguel",3181,null,{"$f":"'1427-1525 MHz'!L38","v":16.294642857142858},{"$f":"'3800-4200 MHz'!H38","v":0},{"$f":"'5925-6425 MHz'!L38","v":0},{"$f":"'7125-8500 MHz'!L37","v":19.871794871794872},{"$f":"'14400 - 15350 MHz'!L37","v":0}]
[null,"Tiuguinal","01°22'00.30''S","79°00'25.10''W","Guaranda",4126,null,{"$f":"'1427-1525 MHz'!L39","v":0},{"$f":"'3800-4200 MHz'!H39","v":0},{"$f":"'5925-6425 MHz'!L39","v":37.5},{"$f":"'7125-8500 MHz'!L38","v":0},{"$f":"'14400 - 15350 MHz'!L38","v":0}]
[null,"Biblian (Sagrado Corazón)","02°43'07.70''S","78°52'53.40''W","Biblián",2878,null,{"$f":"'1427-1525 MHz'!L40","v":0},{"$f":"'3800-4200 MHz'!H40","v":0},{"$f":"'5925-6425 MHz'!L40","v":0},{"$f":"'7125-8500 MHz'!L39","v":25.641025641025642},{"$f":"'14400 - 15350 MHz'!L39","v":24.42}]
[null,"Cerro Altar Urcu","02°28'48.90''S","78°59'36.30''W","Cañar",3215,null,{"$f":"'1427-1525 MHz'!L41","v":0},{"$f":"'3800-4200 MHz'!H41","v":33.333333333333336},{"$f":"'5925-6425 MHz'!L41","v":87.5},{"$f":"'7125-8500 MHz'!L40","v":52.884615384615387},{"$f":"'14400 - 15350 MHz'!L40","v":0}]
[null,"Cerro Buerán","02°36'31.10''S","78°55'50.90''W","Biblián",3816,null,{"$f":"'1427-1525 MHz'!L42","v":25.892857142857142},{"$f":"'3800-4200 MHz'!H42","v":100},{"$f":"'5925-6425 MHz'!L42","v":87.5},{"$f":"'7125-8500 MHz'!L41","v":99.038461538461533},{"$f":"'14400 - 15350 MHz'!L41","v":11.52}]
[null,"Cerro Buerán(Tierras Negras)","02°35'59.40''S","78°55'44.40''W","Biblián",3828,null,{"$f":"'1427-1525 MHz'!L43","v":25.892857142857142},{"$f":"'3800-4200 MHz'!H43","v":100},{"$f":"'5925-6425 MHz'!L43","v":75},{"$f":"'7125-8500 MHz'!L42","v":87.5},{"$f":"'14400 - 15350 MHz'!L42","v":11.52}]
[null,"Cerro Carshao","02°26'23.20''S","78°57'03.80''W","Cañar",4017,null,{"$f":"'1427-1525 MHz'!L44","v":38.616071428571431},{"$f":"'3800-4200 MHz'!H44","v":100},{"$f":"'5925-6425 MHz'!L44","v":87.5},{"$f":"'7125-8500 MHz'!L43","v":98.07692307692308},{"$f":"'14400 - 15350 MHz'!L43","v":7.37}]
[null,"Cerro Carshao Bajo","02°26'08.10''S","78°56'52.20''W","Cañar",4003,null,{"$f":"'1427-1525 MHz'!L45","v":38.616071428571431},{"$f":"'3800-4200 MHz'!H45","v":100},{"$f":"'5925-6425 MHz'!L45","v":87.5},{"$f":"'7125-8500 MHz'!L44","v":98.07692307692308},{"$f":"'14400 - 15350 MHz'!L44","v":7.37}]
[null,"Cerro Cojitambo","02°45'40.70''S","78°53'16.40''W","Azoguez",3106,null,{"$f":"'1427-1525 MHz'!L46","v":0},{"$f":"'3800-4200 MHz'!H46","v":0},{"$f":"'5925-6425 MHz'!L46","v":0},{"$f":"'7125-8500 MHz'!L45","v":0},{"$f":"'14400 - 15350 MHz'!L45","v":0}]
[null,"Cerro Villaflor","02°49'44.60''S","78°48'12.30''W","Azoguez",3042,null,{"$f":"'1427-1525 MHz'!L47","v":0},{"$f":"'3800-4200 MHz'!H47","v":0},{"$f":"'5925-6425 MHz'!L47","v":0},{"$f":"'7125-8500 MHz'!L46","v":44.551282051282051},{"$f":"'14400 - 15350 MHz'!L46","v":26.73}]
[null,"Cerro Troya","00°44'24.50''N","77°41'48.70''W","Tulcán",3529,null,{"$f":"'1427-1525 MHz'!L48","v":51.785714285714285},{"$f":"'3800-4200 MHz'!H48","v":100},{"$f":"'5925-6425 MHz'!L48","v":75},{"$f":"'7125-8500 MHz'!L47","v":94.871794871794876},{"$f":"'14400 - 15350 MHz'!L47","v":63.59}]
[null,"Cerro Troya Bajo","00°44'09.50''N","77°42'22.80''W","Tulcán",3418,null,{"$f":"'1427-1525 MHz'!L49","v":0},{"$f":"'3800-4200 MHz'!H49","v":0},{"$f":"'5925-6425 MHz'!L49","v":0},{"$f":"'7125-8500 MHz'!L48","v":0},{"$f":"'14400 - 15350 MHz'!L48","v":0}]
[null,"Cerro Cabras","00°28'15.00''N","77°57'50.70''W","Bolívar",2904,null,{"$f":"'1427-1525 MHz'!L50","v":26.339285714285715},{"$f":"'3800-4200 MHz'!H50","v":100},{"$f":"'5925-6425 MHz'!L50","v":100},{"$f":"'7125-8500 MHz'!L49","v":83.333333333333329},{"$f":"'14400 - 15350 MHz'!L49","v":55.3}]
[null,"Cerro Chiles Alto","00°35'14.40''N","77°51'04.00''W","Montúfar",3093,null,{"$f":"'1427-1525 MHz'!L51","v":0},{"$f":"'3800-4200 MHz'!H51","v":0},{"$f":"'5925-6425 MHz'!L51","v":0},{"$f":"'7125-8500 MHz'!L50","v":0},{"$f":"'14400 - 15350 MHz'!L50","v":0}]
[null,"Agua Santa","01°41'46.80''S","78°39'59.80''W","Riobamba",3006,null,{"$f":"'1427-1525 MHz'!L52","v":1.3392857142857142},{"$f":"'3800-4200 MHz'!H52","v":0},{"$f":"'5925-6425 MHz'!L52","v":12.5},{"$f":"'7125-8500 MHz'!L51","v":66.34615384615384},{"$f":"'14400 - 15350 MHz'!L51","v":76.040000000000006}]
[null,"Cerro Amula Rayoloma","01°41'22.10''S","78°43'45.70''W","Colta",3485,null,{"$f":"'1427-1525 MHz'!L53","v":0},{"$f":"'3800-4200 MHz'!H53","v":0},{"$f":"'5925-6425 MHz'!L53","v":0},{"$f":"'7125-8500 MHz'!L52","v":0},{"$f":"'14400 - 15350 MHz'!L52","v":0}]
[null,"Cerro Gatazo Grande","01°39'41.30''S","78°45'00.80''W","Colta",3188,null,{"$f":"'1427-1525 MHz'!L54","v":0},{"$f":"'3800-4200 MHz'!H54","v":0},{"$f":"'5925-6425 MHz'!L54","v":0},{"$f":"'7125-8500 MHz'!L53","v":16.666666666666668},{"$f":"'14400 - 15350 MHz'!L53","v":0}]
[null,"Cerro Higno Cacha","01°41'31.90''S","78°42'58.60''W","Riobamba",3567,null,{"$f":"'1427-1525 MHz'!L55","v":0},{"$f":"'3800-4200 MHz'!H55","v":0},{"$f":"'5925-6425 MHz'!L55","v":0},{"$f":"'7125-8500 MHz'!L54","v":19.871794871794872},{"$f":"'14400 - 15350 MHz'!L54","v":0}]
[null,"Cerro La Mira","01°30'32.70''S","78°35'05.20''W","Guano",3881,null,{"$f":"'1427-1525 MHz'!L56","v":71.875},{"$f":"'3800-4200 MHz'!H56","v":100},{"$f":"'5925-6425 MHz'!L56","v":37.5},{"$f":"'7125-8500 MHz'!L55","v":100},{"$f":"'14400 - 15350 MHz'!L55","v":12.9}]
[null,"Cerro La Mira (Senincahuan)","01°41'31.90''S","78°42'58.60''W","Riobamba",3947,null,{"$f":"'1427-1525 MHz'!L57","v":0},{"$f":"'3800-4200 MHz'!H57","v":0},{"$f":"'5925-6425 MHz'!L57","v":0},{"$f":"'7125-8500 MHz'!L56","v":19.871794871794872},{"$f":"'14400 - 15350 MHz'!L56","v":0}]
[null,"Cerro Achayandi","00°57'07.70''S","78°55'32.90''W","Pujulí",4102,null,{"$f":"'1427-1525 MHz'!L58","v":26.339285714285715},{"$f":"'3800-4200 MHz'!H58","v":0},{"$f":"'5925-6425 MHz'!L58","v":0},{"$f":"'7125-8500 MHz'!L57","v":51.602564102564102},{"$f":"'14400 - 15350 MHz'!L57","v":0}]
[null,"Cerro Apagua","00°58'32.00''S","78°56'58.00''W","Pujulí",4032,null,{"$f":"'1427-1525 MHz'!L59","v":0},{"$f":"'3800-4200 MHz'!H59","v":0},{"$f":"'5925-6425 MHz'!L59","v":0},{"$f":"'7125-8500 MHz'!L58","v":0},{"$f":"'14400 - 15350 MHz'!L58","v":0}]
[null,"Cerro Putzalagua","00°57'56.00''S","78°33'42.70''W","Latacunga",3531,null,{"$f":"'1427-1525 MHz'!L60","v":0},{"$f":"'3800-4200 MHz'!H60","v":0},{"$f":"'5925-6425 MHz'!L60","v":12.5},{"$f":"'7125-8500 MHz'!L59","v":79.166666666666671},{"$f":"'14400 - 15350 MHz'!L59","v":35.479999999999997}]
[null,"Chasqui","00°37'15.30''S","78°35'37.20''W","Latacunga",3532,null,{"$f":"'1427-1525 MHz'!L61","v":0},{"$f":"'3800-4200 MHz'!H61","v":100},{"$f":"'5925-6425 MHz'!L61","v":100},{"$f":"'7125-8500 MHz'!L60","v":83.974358974358978},{"$f":"'14400 - 15350 MHz'!L60","v":11.52}]
[null,"Cerro Chilla","03°29'09.70''S","79°36'04.70''W","Chilla",3450,null,{"$f":"'1427-1525 MHz'!L62","v":0},{"$f":"'3800-4200 MHz'!H62","v":0},{"$f":"'5925-6425 MHz'!L62","v":0},{"$f":"'7125-8500 MHz'!L61","v":0},{"$f":"'14400 - 15350 MHz'!L61","v":0}]
[null,"Cerro Chilola","03°30'00.90''S","79°37'52.50''W","Chilla",3596,null,{"$f":"'1427-1525 MHz'!L63","v":0},{"$f":"'3800-4200 MHz'!H63","v":0},{"$f":"'5925-6425 MHz'!L63","v":50},{"$f":"'7125-8500 MHz'!L62","v":89.42307692307692},{"$f":"'14400 - 15350 MHz'!L62","v":0}]
[null,"Cerro El Trigal","03°41'23.20''S","79°39'33.90''W","Piñas",1292,null,{"$f":"'1427-1525 MHz'!L64","v":0},{"$f":"'3800-4200 MHz'!H64","v":0},{"$f":"'5925-6425 MHz'!L64","v":0},{"$f":"'7125-8500 MHz'!L63","v":36.217948717948715},{"$f":"'14400 - 15350 MHz'!L63","v":26.27}]
[null,"Cerro Guirillio","03°09'57.50''S","79°36'20.40''W","El Guabo",3192,null,{"$f":"'1427-1525 MHz'!L65","v":0},{"$f":"'3800-4200 MHz'!H65","v":0},{"$f":"'5925-6425 MHz'!L65","v":0},{"$f":"'7125-8500 MHz'!L64","v":0},{"$f":"'14400 - 15350 MHz'!L64","v":0}]
[null,"Cerro La Chuva","03°43'03.00''S","79°39'11.30''W","Piñas",1282,null,{"$f":"'1427-1525 MHz'!L66","v":13.169642857142858},{"$f":"'3800-4200 MHz'!H66","v":0},{"$f":"'5925-6425 MHz'!L66","v":0},{"$f":"'7125-8500 MHz'!L65","v":63.46153846153846},{"$f":"'14400 - 15350 MHz'!L65","v":11.52}]
[null,"Cerro Repen","03°33'01.80''S","79°41'02.70''W","Atahualpa",2369,null,{"$f":"'1427-1525 MHz'!L67","v":51.339285714285715},{"$f":"'3800-4200 MHz'!H67","v":0},{"$f":"'5925-6425 MHz'!L67","v":37.5},{"$f":"'7125-8500 MHz'!L66","v":53.846153846153847},{"$f":"'14400 - 15350 MHz'!L66","v":0}]
[null,"Cerro Balao (Esmeraldas)","00°57'41.30''N","79°41'25.70''W","Esmeraldas",192,null,{"$f":"'1427-1525 MHz'!L68","v":0},{"$f":"'3800-4200 MHz'!H68","v":0},{"$f":"'5925-6425 MHz'!L68","v":12.5},{"$f":"'7125-8500 MHz'!L67","v":0},{"$f":"'14400 - 15350 MHz'!L67","v":0}]
[null,"Cerro Don Juan","00°50'51.20''N","79°53'52.40''W","Atacames",262,null,{"$f":"'1427-1525 MHz'!L69","v":72.767857142857139},{"$f":"'3800-4200 MHz'!H69","v":0},{"$f":"'5925-6425 MHz'!L69","v":50},{"$f":"'7125-8500 MHz'!L68","v":38.782051282051285},{"$f":"'14400 - 15350 MHz'!L68","v":21.2}]
[null,"Cerro Gatazo ","00°56'38.40''N","79°39'29.70''W","Esmeraldas",271,null,{"$f":"'1427-1525 MHz'!L70","v":26.339285714285715},{"$f":"'3800-4200 MHz'!H70","v":0},{"$f":"'5925-6425 MHz'!L70","v":100},{"$f":"'7125-8500 MHz'!L69","v":61.217948717948715},{"$f":"'14400 - 15350 MHz'!L69","v":80.650000000000006}]
[null,"Cerro La Juanita","00°28'02.20''N","79°34'40.50''W","Quinindé",502,null,{"$f":"'1427-1525 MHz'!L71","v":39.508928571428569},{"$f":"'3800-4200 MHz'!H71","v":0},{"$f":"'5925-6425 MHz'!L71","v":87.5},{"$f":"'7125-8500 MHz'!L70","v":92.307692307692307},{"$f":"'14400 - 15350 MHz'!L70","v":0}]
[null,"Cerro Zapallo","00°53'05.30''N","79°31'52.20''W","Esmeraldas",690,null,{"$f":"'1427-1525 MHz'!L72","v":51.785714285714285},{"$f":"'3800-4200 MHz'!H72","v":0},{"$f":"'5925-6425 MHz'!L72","v":100},{"$f":"'7125-8500 MHz'!L71","v":95.833333333333329},{"$f":"'14400 - 15350 MHz'!L71","v":0}]
[null,"Cerro Animas","02°28'28.20''S","80°28'03.40''W","Guayaquil",427,null,{"$f":"'1427-1525 MHz'!L73","v":70.535714285714292},{"$f":"'3800-4200 MHz'!H73","v":16.666666666666668},{"$f":"'5925-6425 MHz'!L73","v":0},{"$f":"'7125-8500 MHz'!L72","v":84.615384615384613},{"$f":"'14400 - 15350 MHz'!L72","v":14.29}]
[null,"Cerro Azul","02°09'57.40''S","79°57'24.80''W","Guayaquil",324,null,{"$f":"'1427-1525 MHz'!L74","v":81.473214285714292},{"$f":"'3800-4200 MHz'!H74","v":100},{"$f":"'5925-6425 MHz'!L74","v":100},{"$f":"'7125-8500 MHz'!L73","v":98.397435897435898},{"$f":"'14400 - 15350 MHz'!L73","v":95.39}]
[null,"Cerro Azul Alto (507)","02°09'05.10''S","79°59'01.80''W","Guayaquil",398,null,{"$f":"'1427-1525 MHz'!L75","v":0},{"$f":"'3800-4200 MHz'!H75","v":0},{"$f":"'5925-6425 MHz'!L75","v":0},{"$f":"'7125-8500 MHz'!L74","v":87.179487179487182},{"$f":"'14400 - 15350 MHz'!L74","v":6.91}]
[null,"Cerro Balao","02°45'58.90''S","79°39'52.90''W","Naranjal",490,null,{"$f":"'1427-1525 MHz'!L76","v":47.321428571428569},{"$f":"'3800-4200 MHz'!H76","v":33.333333333333336},{"$f":"'5925-6425 MHz'!L76","v":0},{"$f":"'7125-8500 MHz'!L75","v":96.15384615384616},{"$f":"'14400 - 15350 MHz'!L75","v":0}]
[null,"Cerro Bellavista","02°10'57.10''S","79°54'51.30''W","Guayaquil",100,null,{"$f":"'1427-1525 MHz'!L77","v":0},{"$f":"'3800-4200 MHz'!H77","v":0},{"$f":"'5925-6425 MHz'!L77","v":0},{"$f":"'7125-8500 MHz'!L76","v":0},{"$f":"'14400 - 15350 MHz'!L76","v":28.57}]
[null,"Cerro El Carmen","02°10'47.60''S","79°52'50.00''W","Guayaquil",80,null,{"$f":"'1427-1525 MHz'!L78","v":43.080357142857146},{"$f":"'3800-4200 MHz'!H78","v":0},{"$f":"'5925-6425 MHz'!L78","v":62.5},{"$f":"'7125-8500 MHz'!L77","v":89.42307692307692},{"$f":"'14400 - 15350 MHz'!L77","v":100}]
[null,"Cerro González","02°20'57.30''S","80°32'36.70''W","Guayaquil",296,null,{"$f":"'1427-1525 MHz'!L79","v":39.508928571428569},{"$f":"'3800-4200 MHz'!H79","v":100},{"$f":"'5925-6425 MHz'!L79","v":62.5},{"$f":"'7125-8500 MHz'!L78","v":71.15384615384616},{"$f":"'14400 - 15350 MHz'!L78","v":4.1500000000000004}]
[null,"Cerro Mapasingue","02°08'49.80''S","79°55'40.80''W","Guayaquil",120,null,{"$f":"'1427-1525 MHz'!L80","v":0},{"$f":"'3800-4200 MHz'!H80","v":0},{"$f":"'5925-6425 MHz'!L80","v":0},{"$f":"'7125-8500 MHz'!L79","v":48.07692307692308},{"$f":"'14400 - 15350 MHz'!L79","v":88.48}]
[null,"Cerro San Eduardo","02°10'28.00''S","79°55'07.30''W","Guayaquil",160,null,{"$f":"'1427-1525 MHz'!L81","v":0},{"$f":"'3800-4200 MHz'!H81","v":0},{"$f":"'5925-6425 MHz'!L81","v":0},{"$f":"'7125-8500 MHz'!L80","v":16.025641025641026},{"$f":"'14400 - 15350 MHz'!L80","v":60.83}]
[null,"Cerro Santa Ana","01°55'45.30''S","79°45'50.10''W","San Borondón",300,null,{"$f":"'1427-1525 MHz'!L82","v":65.848214285714292},{"$f":"'3800-4200 MHz'!H82","v":100},{"$f":"'5925-6425 MHz'!L82","v":50},{"$f":"'7125-8500 MHz'!L81","v":83.974358974358978},{"$f":"'14400 - 15350 MHz'!L81","v":40.549999999999997}]
[null,"Cerro Tanzarte (Cruz Loma)","02°45'17.90''S","79°23'59.80''W","Naranjal",2894,null,{"$f":"'1427-1525 MHz'!L83","v":13.392857142857142},{"$f":"'3800-4200 MHz'!H83","v":0},{"$f":"'5925-6425 MHz'!L83","v":0},{"$f":"'7125-8500 MHz'!L82","v":11.538461538461538},{"$f":"'14400 - 15350 MHz'!L82","v":0}]
[null,"Cerro Blanco","00°12'33.70''N","78°20'16.40''W","Otavalo",3545,null,{"$f":"'1427-1525 MHz'!L84","v":34.151785714285715},{"$f":"'3800-4200 MHz'!H84","v":100},{"$f":"'5925-6425 MHz'!L84","v":100},{"$f":"'7125-8500 MHz'!L83","v":98.07692307692308},{"$f":"'14400 - 15350 MHz'!L83","v":25.81}]
[null,"Cerro Cotacachi","00°19'57.30''N","78°20'24.60''W","Cotacachi",4047,null,{"$f":"'1427-1525 MHz'!L85","v":0},{"$f":"'3800-4200 MHz'!H85","v":16.666666666666668},{"$f":"'5925-6425 MHz'!L85","v":100},{"$f":"'7125-8500 MHz'!L84","v":83.65384615384616},{"$f":"'14400 - 15350 MHz'!L84","v":39.630000000000003}]
[null,"Cerro Calvario (Loja)","04°02'47.00''S","79°39'05.80''W","Paltas",1935,null,{"$f":"'1427-1525 MHz'!L86","v":0},{"$f":"'3800-4200 MHz'!H86","v":0},{"$f":"'5925-6425 MHz'!L86","v":0},{"$f":"'7125-8500 MHz'!L85","v":9.9358974358974361},{"$f":"'14400 - 15350 MHz'!L85","v":5.99}]
[null,"Cerro Colambo","04°14'14.60''S","79°23'45.40''W","Gonzanamá",3103,null,{"$f":"'1427-1525 MHz'!L87","v":0},{"$f":"'3800-4200 MHz'!H87","v":100},{"$f":"'5925-6425 MHz'!L87","v":75},{"$f":"'7125-8500 MHz'!L86","v":96.474358974358978},{"$f":"'14400 - 15350 MHz'!L86","v":3.69}]
[null,"Cerro Guachaurco","04°02'11.70''S","79°52'19.40''W","Paltas",3102,null,{"$f":"'1427-1525 MHz'!L88","v":0},{"$f":"'3800-4200 MHz'!H88","v":0},{"$f":"'5925-6425 MHz'!L88","v":100},{"$f":"'7125-8500 MHz'!L87","v":100},{"$f":"'14400 - 15350 MHz'!L87","v":11.52}]
[null,"Cerro Guanchuro","04°04'28.80''S","79°38'54.90''W","Paltas",2446,null,{"$f":"'1427-1525 MHz'!L89","v":0},{"$f":"'3800-4200 MHz'!H89","v":0},{"$f":"'5925-6425 MHz'!L89","v":0},{"$f":"'7125-8500 MHz'!L88","v":3.8461538461538463},{"$f":"'14400 - 15350 MHz'!L88","v":0}]
[null,"Cerro Huanchinchambo","04°01'25.20''S","79°14'45.90''W","Catamayo",2849,null,{"$f":"'1427-1525 MHz'!L90","v":0},{"$f":"'3800-4200 MHz'!H90","v":100},{"$f":"'5925-6425 MHz'!L90","v":87.5},{"$f":"'7125-8500 MHz'!L89","v":95.512820512820511},{"$f":"'14400 - 15350 MHz'!L89","v":82.49}]
[null,"Cerro Motilon","04°04'57.10''S","79°56'22.20''W","Celica",2663,null,{"$f":"'1427-1525 MHz'!L91","v":0},{"$f":"'3800-4200 MHz'!H91","v":0},{"$f":"'5925-6425 MHz'!L91","v":0},{"$f":"'7125-8500 MHz'!L90","v":47.756410256410255},{"$f":"'14400 - 15350 MHz'!L90","v":0}]
[null,"Cerro Ventanas","04°01'54.10''S","79°14'39.00''W","Catamayo",2870,null,{"$f":"'1427-1525 MHz'!L92","v":0},{"$f":"'3800-4200 MHz'!H92","v":100},{"$f":"'5925-6425 MHz'!L92","v":87.5},{"$f":"'7125-8500 MHz'!L91","v":95.512820512820511},{"$f":"'14400 - 15350 MHz'!L91","v":82.49}]
[null,"Cerro Villonaco Alto","03°59'18.70''S","79°16'06.30''W","Catamayo",2952,null,{"$f":"'1427-1525 MHz'!L93","v":0},{"$f":"'3800-4200 MHz'!H93","v":0},{"$f":"'5925-6425 MHz'!L93","v":0},{"$f":"'7125-8500 MHz'!L92","v":59.294871794871796},{"$f":"'14400 - 15350 MHz'!L92","v":11.52}]
[null,"Pucará","04°05'47.80''S","79°56'17.70''W","Celica",2479,null,{"$f":"'1427-1525 MHz'!L94","v":0},{"$f":"'3800-4200 MHz'!H94","v":0},{"$f":"'5925-6425 MHz'!L94","v":0},{"$f":"'7125-8500 MHz'!L93","v":36.858974358974358},{"$f":"'14400 - 15350 MHz'!L93","v":23.04}]
[null,"Saraguro","03°37'55.20''S","79°14'37.50''W","Saraguro",2740,null,{"$f":"'1427-1525 MHz'!L95","v":0},{"$f":"'3800-4200 MHz'!H95","v":0},{"$f":"'5925-6425 MHz'!L95","v":0},{"$f":"'7125-8500 MHz'!L94","v":9.615384615384615},{"$f":"'14400 - 15350 MHz'!L94","v":0}]
[null,"Cerro Corozo","01°29'23.10''S","80°31'27.00''W","Jipijapa",774,null,{"$f":"'1427-1525 MHz'!L96","v":52.455357142857146},{"$f":"'3800-4200 MHz'!H96","v":100},{"$f":"'5925-6425 MHz'!L96","v":62.5},{"$f":"'7125-8500 MHz'!L95","v":98.397435897435898},{"$f":"'14400 - 15350 MHz'!L95","v":6.45}]
[null,"Cerro de Hojas","01°02'40.10''S","80°32'38.50''W","Portoviejo",674,null,{"$f":"'1427-1525 MHz'!L97","v":60.044642857142854},{"$f":"'3800-4200 MHz'!H97","v":100},{"$f":"'5925-6425 MHz'!L97","v":87.5},{"$f":"'7125-8500 MHz'!L96","v":100},{"$f":"'14400 - 15350 MHz'!L96","v":53}]
[null,"Cerro Guayas","00°41'18.10''S","80°05'27.90''W","Chone",128,null,{"$f":"'1427-1525 MHz'!L98","v":0},{"$f":"'3800-4200 MHz'!H98","v":0},{"$f":"'5925-6425 MHz'!L98","v":0},{"$f":"'7125-8500 MHz'!L97","v":41.346153846153847},{"$f":"'14400 - 15350 MHz'!L97","v":41.47}]
[null,"Cerro Jama 1","00°12'29.40''S","80°16'08.70''W","Jama",93,null,{"$f":"'1427-1525 MHz'!L99","v":0},{"$f":"'3800-4200 MHz'!H99","v":0},{"$f":"'5925-6425 MHz'!L99","v":0},{"$f":"'7125-8500 MHz'!L98","v":8.6538461538461533},{"$f":"'14400 - 15350 MHz'!L98","v":0}]
[null,"Cerro Jama 2","00°12'58.90''S","80°16'44.50''W","Jama",140,null,{"$f":"'1427-1525 MHz'!L100","v":0},{"$f":"'3800-4200 MHz'!H100","v":0},{"$f":"'5925-6425 MHz'!L100","v":0},{"$f":"'7125-8500 MHz'!L99","v":17.948717948717949},{"$f":"'14400 - 15350 MHz'!L99","v":0}]
[null,"Cerro La Crespa","00°20'07.10''S","79°45'34.70''W","Flavio Alfaro",480,null,{"$f":"'1427-1525 MHz'!L101","v":0},{"$f":"'3800-4200 MHz'!H101","v":66.666666666666671},{"$f":"'5925-6425 MHz'!L101","v":50},{"$f":"'7125-8500 MHz'!L100","v":66.025641025641022},{"$f":"'14400 - 15350 MHz'!L100","v":0}]
[null,"Cerro Nueve","00°16'05.30''S","80°12'29.90''W","Jama",652,null,{"$f":"'1427-1525 MHz'!L102","v":0},{"$f":"'3800-4200 MHz'!H102","v":66.666666666666671},{"$f":"'5925-6425 MHz'!L102","v":37.5},{"$f":"'7125-8500 MHz'!L101","v":85.57692307692308},{"$f":"'14400 - 15350 MHz'!L101","v":0}]
[null,"Cerro Puerto Alto","00°21'36.30''S","79°52'00.40''W","Flavio Alfaro",410,null,{"$f":"'1427-1525 MHz'!L103","v":0},{"$f":"'3800-4200 MHz'!H103","v":0},{"$f":"'5925-6425 MHz'!L103","v":0},{"$f":"'7125-8500 MHz'!L102","v":49.679487179487182},{"$f":"'14400 - 15350 MHz'!L102","v":11.52}]
[null,"Loma de Viento","00°42'28.10''S","80°24'28.80''W","Sucre",402,null,{"$f":"'1427-1525 MHz'!L104","v":51.339285714285715},{"$f":"'3800-4200 MHz'!H104","v":33.333333333333336},{"$f":"'5925-6425 MHz'!L104","v":25},{"$f":"'7125-8500 MHz'!L103","v":77.884615384615387},{"$f":"'14400 - 15350 MHz'!L103","v":0}]
[null,"Mirador de Bahía de Caráquez","00°36'28.00''S","80°25'34.70''W","Sucre",102,null,{"$f":"'1427-1525 MHz'!L105","v":0},{"$f":"'3800-4200 MHz'!H105","v":0},{"$f":"'5925-6425 MHz'!L105","v":0},{"$f":"'7125-8500 MHz'!L104","v":15.064102564102564},{"$f":"'14400 - 15350 MHz'!L104","v":41.47}]
[null,"Cerro Bosco","03°00'01.00''S","78°30'34.90''W","Limón Indanza",2404,null,{"$f":"'1427-1525 MHz'!L106","v":26.339285714285715},{"$f":"'3800-4200 MHz'!H106","v":0},{"$f":"'5925-6425 MHz'!L106","v":37.5},{"$f":"'7125-8500 MHz'!L105","v":79.166666666666671},{"$f":"'14400 - 15350 MHz'!L105","v":0}]
[null,"Cerro Quilamo","02°18'14.40''S","78°08'26.80''W","Morona",1461,null,{"$f":"'1427-1525 MHz'!L107","v":0},{"$f":"'3800-4200 MHz'!H107","v":0},{"$f":"'5925-6425 MHz'!L107","v":62.5},{"$f":"'7125-8500 MHz'!L106","v":42.307692307692307},{"$f":"'14400 - 15350 MHz'!L106","v":18.89}]
[null,"Cerro Condijua","00°29'01.60''S","77°54'06.90''W","Quijos",2526,null,{"$f":"'1427-1525 MHz'!L108","v":17.410714285714285},{"$f":"'3800-4200 MHz'!H108","v":33.333333333333336},{"$f":"'5925-6425 MHz'!L108","v":100},{"$f":"'7125-8500 MHz'!L107","v":97.115384615384613},{"$f":"'14400 - 15350 MHz'!L107","v":18.43}]
[null,"Cerro Huacamayos","00°37'26.06''S","77°50'28.60''W","Archidona",2300,null,{"$f":"'1427-1525 MHz'!L109","v":0},{"$f":"'3800-4200 MHz'!H109","v":0},{"$f":"'5925-6425 MHz'!L109","v":37.5},{"$f":"'7125-8500 MHz'!L108","v":82.051282051282058},{"$f":"'14400 - 15350 MHz'!L108","v":0}]
[null,"Cerro Tres Cruces","00°16'22.60''S","77°45'53.80''W","El Chaco",1980,null,{"$f":"'1427-1525 MHz'!L110","v":0},{"$f":"'3800-4200 MHz'!H110","v":0},{"$f":"'5925-6425 MHz'!L110","v":100},{"$f":"'7125-8500 MHz'!L109","v":90.064102564102569},{"$f":"'14400 - 15350 MHz'!L109","v":0}]
[null,"Papallacta","00°22'43.70''S","78°08'48.60''W","Quijos",3373,null,{"$f":"'1427-1525 MHz'!L111","v":0},{"$f":"'3800-4200 MHz'!H111","v":0},{"$f":"'5925-6425 MHz'!L111","v":0},{"$f":"'7125-8500 MHz'!L110","v":7.6923076923076925},{"$f":"'14400 - 15350 MHz'!L110","v":11.52}]
[null,"Cerro Lumbaqui Alto","00°00'30.40''N","77°19'15.80''W","Orellana",1088,null,{"$f":"'1427-1525 MHz'!L112","v":25.892857142857142},{"$f":"'3800-4200 MHz'!H112","v":0},{"$f":"'5925-6425 MHz'!L112","v":62.5},{"$f":"'7125-8500 MHz'!L111","v":98.07692307692308},{"$f":"'14400 - 15350 MHz'!L111","v":27.19}]
[null,"Cerro Lumbaqui Bajo","00°01'47.70''N","77°19'07.90''W","Orellana",998,null,{"$f":"'1427-1525 MHz'!L113","v":0},{"$f":"'3800-4200 MHz'!H113","v":0},{"$f":"'5925-6425 MHz'!L113","v":50},{"$f":"'7125-8500 MHz'!L112","v":57.692307692307693},{"$f":"'14400 - 15350 MHz'!L112","v":11.52}]
[null,"Cerro Abitagua","01°24'53.90''S","78°08'31.00''W","Mera",2250,null,{"$f":"'1427-1525 MHz'!L114","v":0},{"$f":"'3800-4200 MHz'!H114","v":66.666666666666671},{"$f":"'5925-6425 MHz'!L114","v":50},{"$f":"'7125-8500 MHz'!L113","v":89.42307692307692},{"$f":"'14400 - 15350 MHz'!L113","v":0}]
[null,"Cerro Calvario","01°31'14.30''S","77°54'28.50''W","Pastaza",1171,null,{"$f":"'1427-1525 MHz'!L115","v":32.142857142857146},{"$f":"'3800-4200 MHz'!H115","v":33.333333333333336},{"$f":"'5925-6425 MHz'!L115","v":100},{"$f":"'7125-8500 MHz'!L114","v":99.679487179487182},{"$f":"'14400 - 15350 MHz'!L114","v":0}]
[null,"Santa Clara(Km.35 Vía Puyo - Tena)","01°17'29.30''S","77°52'36.80''W","Santa Clara",1080,null,{"$f":"'1427-1525 MHz'!L116","v":42.857142857142854},{"$f":"'3800-4200 MHz'!H116","v":66.666666666666671},{"$f":"'5925-6425 MHz'!L116","v":100},{"$f":"'7125-8500 MHz'!L115","v":94.230769230769226},{"$f":"'14400 - 15350 MHz'!L115","v":15.67}]
[null,"Cerro Cayambe","00°03'58.00''N","77°59'25.80''W","Cayambe",4216,null,{"$f":"'1427-1525 MHz'!L117","v":0},{"$f":"'3800-4200 MHz'!H117","v":0},{"$f":"'5925-6425 MHz'!L117","v":12.5},{"$f":"'7125-8500 MHz'!L116","v":53.205128205128204},{"$f":"'14400 - 15350 MHz'!L116","v":0}]
[null,"Cerro Cruz Loma","00°11'17.50''S","78°32'06.70''W","Quito",3990,null,{"$f":"'1427-1525 MHz'!L118","v":92.1875},{"$f":"'3800-4200 MHz'!H118","v":50},{"$f":"'5925-6425 MHz'!L118","v":100},{"$f":"'7125-8500 MHz'!L117","v":98.397435897435898},{"$f":"'14400 - 15350 MHz'!L117","v":94.47}]
[null,"Cerro Ilumbisi","00°13'40.60''S","78°28'25.70''W","Quito",3040,null,{"$f":"'1427-1525 MHz'!L119","v":18.75},{"$f":"'3800-4200 MHz'!H119","v":0},{"$f":"'5925-6425 MHz'!L119","v":0},{"$f":"'7125-8500 MHz'!L118","v":97.115384615384613},{"$f":"'14400 - 15350 MHz'!L118","v":72.349999999999994}]
[null,"Cerro La Virgen","00°19'06.90''S","78°11'27.60''W","Quito",4412,null,{"$f":"'1427-1525 MHz'!L120","v":0},{"$f":"'3800-4200 MHz'!H120","v":33.333333333333336},{"$f":"'5925-6425 MHz'!L120","v":100},{"$f":"'7125-8500 MHz'!L119","v":89.743589743589737},{"$f":"'14400 - 15350 MHz'!L119","v":0}]
[null,"Cerro Puengasí","00°14'43.40''S","78°29'59.70''W","Quito",3085,null,{"$f":"'1427-1525 MHz'!L121","v":0},{"$f":"'3800-4200 MHz'!H121","v":0},{"$f":"'5925-6425 MHz'!L121","v":62.5},{"$f":"'7125-8500 MHz'!L120","v":15.384615384615385},{"$f":"'14400 - 15350 MHz'!L120","v":22.12}]
[null,"Mojanda","00°04'47.30''N","78°13'43.20''W","Pedro Moncayo",3241,null,{"$f":"'1427-1525 MHz'!L122","v":17.857142857142858},{"$f":"'3800-4200 MHz'!H122","v":0},{"$f":"'5925-6425 MHz'!L122","v":0},{"$f":"'7125-8500 MHz'!L121","v":16.025641025641026},{"$f":"'14400 - 15350 MHz'!L121","v":0}]
[null,"Sector Ferroviaria y la Florestal","00°15'48.00''S","78°30'25.00''W","Quito",3179,null,{"$f":"'1427-1525 MHz'!L123","v":16.294642857142858},{"$f":"'3800-4200 MHz'!H123","v":33.333333333333336},{"$f":"'5925-6425 MHz'!L123","v":0},{"$f":"'7125-8500 MHz'!L122","v":85.256410256410263},{"$f":"'14400 - 15350 MHz'!L122","v":97.7}]
[null,"Cerro Condorcocha","00°02'19.10''S","78°30'41.00''W","Quito",3586,null,{"$f":"'1427-1525 MHz'!L124","v":18.75},{"$f":"'3800-4200 MHz'!H124","v":0},{"$f":"'5925-6425 MHz'!L124","v":50},{"$f":"'7125-8500 MHz'!L123","v":38.46153846153846},{"$f":"'14400 - 15350 MHz'!L123","v":32.26}]
[null,"Cerro San Francisco","00°23'24.89''S","78°37'06.79''W","Mejía",4097,null,{"$f":"'1427-1525 MHz'!L125","v":0},{"$f":"'3800-4200 MHz'!H125","v":0},{"$f":"'5925-6425 MHz'!L125","v":0},{"$f":"'7125-8500 MHz'!L124","v":0},{"$f":"'14400 - 15350 MHz'!L124","v":0}]
[null,"Cerro Tinajero","00°22'53.08''S","78°36'36.19''W","Mejía",4082,null,{"$f":"'1427-1525 MHz'!L126","v":0},{"$f":"'3800-4200 MHz'!H126","v":0},{"$f":"'5925-6425 MHz'!L126","v":0},{"$f":"'7125-8500 MHz'!L125","v":0},{"$f":"'14400 - 15350 MHz'!L125","v":0}]
[null,"Cerro La Viudita","00°24'50.70''S","78°36'27.00''W","Mejía",3751,null,{"$f":"'1427-1525 MHz'!L127","v":0},{"$f":"'3800-4200 MHz'!H127","v":0},{"$f":"'5925-6425 MHz'!L127","v":37.5},{"$f":"'7125-8500 MHz'!L126","v":12.5},{"$f":"'14400 - 15350 MHz'!L126","v":5.99}]
[null,"Cerro Hacda El Rosario","00°26'14.60''S","78°32'12.50''W","Mejía",2981,null,{"$f":"'1427-1525 MHz'!L128","v":13.169642857142858},{"$f":"'3800-4200 MHz'!H128","v":0},{"$f":"'5925-6425 MHz'!L128","v":0},{"$f":"'7125-8500 MHz'!L127","v":62.5},{"$f":"'14400 - 15350 MHz'!L127","v":52.07}]
[null,"Cerro Atacazo Alto","00°21'22.20''S","78°37'09.10''W","Quito",4474,null,{"$f":"'1427-1525 MHz'!L129","v":0},{"$f":"'3800-4200 MHz'!H129","v":0},{"$f":"'5925-6425 MHz'!L129","v":25},{"$f":"'7125-8500 MHz'!L128","v":0},{"$f":"'14400 - 15350 MHz'!L128","v":0}]
[null,"Cerro Atacazo Bajo","00°19'05.10''S","78°36'08.10''W","Quito",3893,null,{"$f":"'1427-1525 MHz'!L130","v":0},{"$f":"'3800-4200 MHz'!H130","v":66.666666666666671},{"$f":"'5925-6425 MHz'!L130","v":75},{"$f":"'7125-8500 MHz'!L129","v":97.756410256410263},{"$f":"'14400 - 15350 MHz'!L129","v":27.19}]
[null,"Cerro Pichincha","00°09'57.03''S","78°31'39.19''W","Quito",3901,null,{"$f":"'1427-1525 MHz'!L131","v":0},{"$f":"'3800-4200 MHz'!H131","v":16.666666666666668},{"$f":"'5925-6425 MHz'!L131","v":0},{"$f":"'7125-8500 MHz'!L130","v":68.589743589743591},{"$f":"'14400 - 15350 MHz'!L130","v":81.11}]
[null,"Cerro Capáes","02°12'32.40''S","80°51'47.50''W","Santa Elena",102,null,{"$f":"'1427-1525 MHz'!L132","v":0},{"$f":"'3800-4200 MHz'!H132","v":16.666666666666668},{"$f":"'5925-6425 MHz'!L132","v":0},{"$f":"'7125-8500 MHz'!L131","v":55.128205128205131},{"$f":"'14400 - 15350 MHz'!L131","v":40.549999999999997}]
[null,"Cerro Bijagual","00°39'28.70''S","79°17'41.00''W","Sto Domingo",798,null,{"$f":"'1427-1525 MHz'!L133","v":51.785714285714285},{"$f":"'3800-4200 MHz'!H133","v":0},{"$f":"'5925-6425 MHz'!L133","v":37.5},{"$f":"'7125-8500 MHz'!L132","v":70.833333333333329},{"$f":"'14400 - 15350 MHz'!L132","v":11.52}]
[null,"Cerro Bomboli","00°14'48.20''S","79°11'31.30''W","Sto Domingo",636,null,{"$f":"'1427-1525 MHz'!L134","v":70.3125},{"$f":"'3800-4200 MHz'!H134","v":0},{"$f":"'5925-6425 MHz'!L134","v":62.5},{"$f":"'7125-8500 MHz'!L133","v":98.397435897435898},{"$f":"'14400 - 15350 MHz'!L133","v":63.59}]
[null,"Cerro Chiguilpe Alto","00°17'44.70''S","79°05'12.10''W","Sto Domingo",1172,null,{"$f":"'1427-1525 MHz'!L135","v":0},{"$f":"'3800-4200 MHz'!H135","v":66.666666666666671},{"$f":"'5925-6425 MHz'!L135","v":50},{"$f":"'7125-8500 MHz'!L134","v":75.641025641025635},{"$f":"'14400 - 15350 MHz'!L134","v":4.1500000000000004}]
[null,"Cerro Chiguilpe Bajo","00°16'51.30''S","79°05'26.40''W","Sto Domingo",801,null,{"$f":"'1427-1525 MHz'!L136","v":0},{"$f":"'3800-4200 MHz'!H136","v":0},{"$f":"'5925-6425 MHz'!L136","v":0},{"$f":"'7125-8500 MHz'!L135","v":56.410256410256409},{"$f":"'14400 - 15350 MHz'!L135","v":9.68}]
[null,"Cerro San Luis","00°35'10.70''S","79°19'18.80''W","Sto Domingo",412,null,{"$f":"'1427-1525 MHz'!L137","v":0},{"$f":"'3800-4200 MHz'!H137","v":33.333333333333336},{"$f":"'5925-6425 MHz'!L137","v":0},{"$f":"'7125-8500 MHz'!L136","v":49.679487179487182},{"$f":"'14400 - 15350 MHz'!L136","v":0}]
[null,"Cerro Bermejo","00°08'09.10''N","77°19'39.90''W","Cascales",994,null,{"$f":"'1427-1525 MHz'!L138","v":0},{"$f":"'3800-4200 MHz'!H138","v":0},{"$f":"'5925-6425 MHz'!L138","v":0},{"$f":"'7125-8500 MHz'!L137","v":0},{"$f":"'14400 - 15350 MHz'!L137","v":0}]
[null,"Cerro Reventador","00°02'33.90''S","77°31'44.10''W","Gonzalo Pizarro",1600,null,{"$f":"'1427-1525 MHz'!L139","v":0},{"$f":"'3800-4200 MHz'!H139","v":33.333333333333336},{"$f":"'5925-6425 MHz'!L139","v":100},{"$f":"'7125-8500 MHz'!L138","v":93.589743589743591},{"$f":"'14400 - 15350 MHz'!L138","v":0}]
[null,"Cerro Niton","01°16'41.60''S","78°32'10.20''W","San Pedro de Pelileo",3079,null,{"$f":"'1427-1525 MHz'!L140","v":0},{"$f":"'3800-4200 MHz'!H140","v":0},{"$f":"'5925-6425 MHz'!L140","v":62.5},{"$f":"'7125-8500 MHz'!L139","v":29.807692307692307},{"$f":"'14400 - 15350 MHz'!L139","v":19.350000000000001}]
[null,"Cerro Pilisurco o Saguatoa","01°09'17.20''S","78°39'58.00''W","Ambato",4154,null,{"$f":"'1427-1525 MHz'!L141","v":0},{"$f":"'3800-4200 MHz'!H141","v":50},{"$f":"'5925-6425 MHz'!L141","v":100},{"$f":"'7125-8500 MHz'!L140","v":98.717948717948715},{"$f":"'14400 - 15350 MHz'!L140","v":61.75}]
[null,"Cerro Salvación (Lligua)","01°22'44.90''S","78°26'11.80''W","Baños",2696,null,{"$f":"'1427-1525 MHz'!L142","v":0},{"$f":"'3800-4200 MHz'!H142","v":33.333333333333336},{"$f":"'5925-6425 MHz'!L142","v":62.5},{"$f":"'7125-8500 MHz'!L141","v":78.525641025641022},{"$f":"'14400 - 15350 MHz'!L141","v":10.14}]
[null,"Llantantoma","01°09'56.40''S","78°37'53.90''W","Ambato",3450,null,{"$f":"'1427-1525 MHz'!L143","v":0},{"$f":"'3800-4200 MHz'!H143","v":0},{"$f":"'5925-6425 MHz'!L143","v":0},{"$f":"'7125-8500 MHz'!L142","v":0},{"$f":"'14400 - 15350 MHz'!L142","v":0}]